BEGIN:VCALENDAR
VERSION:2.0
PRODID:-//InvisionCommunity Events 4.7.23//EN
METHOD:PUBLISH
CALSCALE:GREGORIAN
REFRESH-INTERVAL:PT15M
X-PUBLISHED-TTL:PT15M
X-WR-CALNAME:Grand Prix Series
NAME:Grand Prix Series
BEGIN:VTIMEZONE
TZID:Europe/London
TZURL:http://tzurl.org/zoneinfo/Europe/London
X-LIC-LOCATION:Europe/London
BEGIN:DAYLIGHT
TZOFFSETFROM:+0000
TZOFFSETTO:+0100
TZNAME:BST
DTSTART:20170326T020000Z
RRULE:FREQ=YEARLY;BYMONTH=3;BYDAY=-1SU
END:DAYLIGHT
BEGIN:STANDARD
TZOFFSETFROM:+0100
TZOFFSETTO:+0000
TZNAME:GMT
DTSTART:20171029T020000Z
RRULE:FREQ=YEARLY;BYMONTH=10;BYDAY=-1SU
END:STANDARD
END:VTIMEZONE
BEGIN:VEVENT
SUMMARY:Ice Dance SD - Internationaux de France 2017
DTSTAMP:20170726T173606Z
SEQUENCE:0
UID:91-2-2d4faa662f2f2e4c4c1a0854de40d023@planethanyu.com
ORGANIZER;CN="Hydroblade":forum@planethanyu.com
DESCRIPTION:\n\n	\n\n\n	 \n\n\n\n	ISU GP Internationaux de France 2017\
	nIce Dance Short Dance\n\n	 \n\n\n\n\n\n				No.\n			\n			\n				Name\n			\
	n			\n				Nation\n			\n			\n				 \n			\n		\n\n\n				1\n			\n			\n				Kait
	lyn WEAVER / Andrew POJE\n			\n			\n				CAN\n			\n			\n				1\n			\n		\n\n\
	n				2\n			\n			\n				Angelique ABACHKINA / Louis THAURON\n			\n			\n				F
	RA\n			\n			\n				2\n			\n		\n\n\n				3\n			\n			\n				Gabriella PAPADAKIS
	 / Guillaume CIZERON\n			\n			\n				FRA\n			\n			\n				2\n			\n		\n\n\n			
		4\n			\n			\n				FRA TBA 1 / FRA TBA 1\n			\n			\n				FRA\n			\n			\n				
	2\n			\n		\n\n\n				5\n			\n			\n				Charlene GUIGNARD / Marco FABBRI\n			
	\n			\n				ITA\n			\n			\n				3\n			\n		\n\n\n				6\n			\n			\n				Natalia
	 KALISZEK / Maksym SPODYRIEV\n			\n			\n				POL\n			\n			\n				4\n			\n		\
	n\n\n				7\n			\n			\n				Alla LOBODA / Pavel DROZD\n			\n			\n				RUS\n		
		\n			\n				5\n			\n		\n\n\n				8\n			\n			\n				Alexandra STEPANOVA / Iva
	n BUKIN\n			\n			\n				RUS\n			\n			\n				5\n			\n		\n\n\n				9\n			\n			\
	n				Madison CHOCK / Evan BATES\n			\n			\n				USA\n			\n			\n				6\n			\n
			\n\n\n				10\n			\n			\n				Elliana POGREBINSKY / Alex BENOIT\n			\n			\
	n				USA\n			\n			\n				6\n			\n		\n\n
DTSTART:20171117T155500Z
DTEND:20171117T173000Z
END:VEVENT
END:VCALENDAR
