BEGIN:VCALENDAR
VERSION:2.0
PRODID:-//InvisionCommunity Events 4.7.23//EN
METHOD:PUBLISH
CALSCALE:GREGORIAN
REFRESH-INTERVAL:PT15M
X-PUBLISHED-TTL:PT15M
X-WR-CALNAME:ISU Championships
NAME:ISU Championships
BEGIN:VTIMEZONE
TZID:Europe/London
TZURL:http://tzurl.org/zoneinfo/Europe/London
X-LIC-LOCATION:Europe/London
BEGIN:DAYLIGHT
TZOFFSETFROM:+0000
TZOFFSETTO:+0100
TZNAME:BST
DTSTART:20200329T020000Z
RRULE:FREQ=YEARLY;BYMONTH=3;BYDAY=-1SU
END:DAYLIGHT
BEGIN:STANDARD
TZOFFSETFROM:+0100
TZOFFSETTO:+0000
TZNAME:GMT
DTSTART:20201025T020000Z
RRULE:FREQ=YEARLY;BYMONTH=10;BYDAY=-1SU
END:STANDARD
END:VTIMEZONE
BEGIN:VEVENT
SUMMARY:Men SP PRACTICE
DTSTAMP:20200201T033738Z
SEQUENCE:0
UID:756-8-2d4faa662f2f2e4c4c1a0854de40d023@planethanyu.com
ORGANIZER;CN="WinForPooh":forum@planethanyu.com
DESCRIPTION:\n\n	Men's SP Practice\n\n\n\n	Practice Thread\n\n
DTSTART:20200207T005000Z
DTEND:20200207T034000Z
END:VEVENT
END:VCALENDAR
