BEGIN:VCALENDAR
VERSION:2.0
PRODID:-//InvisionCommunity Events 4.7.23//EN
METHOD:PUBLISH
CALSCALE:GREGORIAN
REFRESH-INTERVAL:PT15M
X-PUBLISHED-TTL:PT15M
X-WR-CALNAME:Grand Prix Series
NAME:Grand Prix Series
BEGIN:VTIMEZONE
TZID:Europe/London
TZURL:http://tzurl.org/zoneinfo/Europe/London
X-LIC-LOCATION:Europe/London
BEGIN:DAYLIGHT
TZOFFSETFROM:+0000
TZOFFSETTO:+0100
TZNAME:BST
DTSTART:20170326T020000Z
RRULE:FREQ=YEARLY;BYMONTH=3;BYDAY=-1SU
END:DAYLIGHT
BEGIN:STANDARD
TZOFFSETFROM:+0100
TZOFFSETTO:+0000
TZNAME:GMT
DTSTART:20171029T020000Z
RRULE:FREQ=YEARLY;BYMONTH=10;BYDAY=-1SU
END:STANDARD
END:VTIMEZONE
BEGIN:VEVENT
SUMMARY:Men SP - Skate Canada International 2017
DTSTAMP:20170726T160010Z
SEQUENCE:0
UID:74-2-2d4faa662f2f2e4c4c1a0854de40d023@planethanyu.com
ORGANIZER;CN="Hydroblade":forum@planethanyu.com
DESCRIPTION:\n\n	\n\n\n	ISU GP Skate Canada International 2017\n\n	Men 
	Short Program\n\n\n\n	 \n\n\n\n\n\n				No.\n			\n			\n				Name\n			\n			\
	n				Nation\n			\n			\n				 \n			\n		\n\n\n				1\n			\n			\n				Brendan K
	ERRY\n			\n			\n				AUS\n			\n			\n				1\n			\n		\n\n\n				2\n			\n			\n		
			Jorik HENDRICKX\n			\n			\n				BEL\n			\n			\n				2\n			\n		\n\n\n				3\
	n			\n			\n				Patrick CHAN\n			\n			\n				CAN\n			\n			\n				3\n			\n		\n
	\n\n				4\n			\n			\n				Keegan MESSING\n			\n			\n				CAN\n			\n			\n				
	3\n			\n		\n\n\n				5\n			\n			\n				CAN TBA 1\n			\n			\n				CAN\n			\n		
		\n				3\n			\n		\n\n\n				6\n			\n			\n				Chafik BESSEGHIER\n			\n			\n	
				FRA\n			\n			\n				4\n			\n		\n\n\n				7\n			\n			\n				Takahito MURA\n
				\n			\n				JPN\n			\n			\n				5\n			\n		\n\n\n				8\n			\n			\n				Shom
	a UNO\n			\n			\n				JPN\n			\n			\n				5\n			\n		\n\n\n				9\n			\n			\n	
				Jun Hwan CHA\n			\n			\n				KOR\n			\n			\n				6\n			\n		\n\n\n				10\n
				\n			\n				Maxim KOVTUN\n			\n			\n				RUS\n			\n			\n				7\n			\n		\n\
	n\n				11\n			\n			\n				Alexander SAMARIN\n			\n			\n				RUS\n			\n			\n	
				7\n			\n		\n\n\n				12\n			\n			\n				Jason BROWN\n			\n			\n				USA\n	
			\n			\n				8\n			\n		\n\n
DTSTART:20171027T235700Z
DTEND:20171028T014000Z
END:VEVENT
END:VCALENDAR
