BEGIN:VCALENDAR
VERSION:2.0
PRODID:-//InvisionCommunity Events 4.7.23//EN
METHOD:PUBLISH
CALSCALE:GREGORIAN
REFRESH-INTERVAL:PT15M
X-PUBLISHED-TTL:PT15M
X-WR-CALNAME:Grand Prix Series
NAME:Grand Prix Series
BEGIN:VTIMEZONE
TZID:Europe/London
TZURL:http://tzurl.org/zoneinfo/Europe/London
X-LIC-LOCATION:Europe/London
BEGIN:DAYLIGHT
TZOFFSETFROM:+0000
TZOFFSETTO:+0100
TZNAME:BST
DTSTART:20170326T020000Z
RRULE:FREQ=YEARLY;BYMONTH=3;BYDAY=-1SU
END:DAYLIGHT
BEGIN:STANDARD
TZOFFSETFROM:+0100
TZOFFSETTO:+0000
TZNAME:GMT
DTSTART:20171029T020000Z
RRULE:FREQ=YEARLY;BYMONTH=10;BYDAY=-1SU
END:STANDARD
END:VTIMEZONE
BEGIN:VEVENT
SUMMARY:Ice Dance SD - Rostelecom Cup 2017
DTSTAMP:20170726T153345Z
SEQUENCE:0
UID:63-2-2d4faa662f2f2e4c4c1a0854de40d023@planethanyu.com
ORGANIZER;CN="Hydroblade":forum@planethanyu.com
DESCRIPTION:\n\n	\n\n\n	ISU GP Rostelecom Cup 2017\n\n	Ice Dance Short D
	ance\n\n\n\n	 \n\n\n\n\n\n				No.\n			\n			\n				Name\n			\n			\n				Nati
	on\n			\n			\n				 \n			\n		\n\n\n				1\n			\n			\n				Piper GILLES / Pau
	l POIRIER\n			\n			\n				CAN\n			\n			\n				1\n			\n		\n\n\n				2\n			\n		
		\n				Nicole KUZMICHOVA / Alexandr SINICYN\n			\n			\n				CZE\n			\n			\n
					2\n			\n		\n\n\n				3\n			\n			\n				Marie-Jade LAURIAULT / Romain LE 
	GAC\n			\n			\n				FRA\n			\n			\n				3\n			\n		\n\n\n				4\n			\n			\n			
		Charlene GUIGNARD / Marco FABBRI\n			\n			\n				ITA\n			\n			\n				4\n			
	\n		\n\n\n				5\n			\n			\n				Ekaterina BOBROVA / Dmitri SOLOVIEV\n			\n	
			\n				RUS\n			\n			\n				5\n			\n		\n\n\n				6\n			\n			\n				Alexandra 
	STEPANOVA / Ivan BUKIN\n			\n			\n				RUS\n			\n			\n				5\n			\n		\n\n\n	
				7\n			\n			\n				RUS TBA 1 / RUS TBA 1\n			\n			\n				RUS\n			\n			\n		
			5\n			\n		\n\n\n				8\n			\n			\n				Alisa AGAFONOVA / Alper UCAR\n			\n
				\n				TUR\n			\n			\n				6\n			\n		\n\n\n				9\n			\n			\n				Rachel PA
	RSONS / Michael PARSONS\n			\n			\n				USA\n			\n			\n				7\n			\n		\n\n\n
					10\n			\n			\n				Maia SHIBUTANI / Alex SHIBUTANI\n			\n			\n				USA\n
				\n			\n				7\n			\n		\n\n
DTSTART:20171020T120000Z
DTEND:20171020T141500Z
ATTENDEE;CN="nagini";CUTYPE=INDIVIDUAL;PARTSTAT=ACCEPTED:for
	um@planethanyu.com
END:VEVENT
END:VCALENDAR
