BEGIN:VCALENDAR
VERSION:2.0
PRODID:-//InvisionCommunity Events 4.7.23//EN
METHOD:PUBLISH
CALSCALE:GREGORIAN
REFRESH-INTERVAL:PT15M
X-PUBLISHED-TTL:PT15M
X-WR-CALNAME:TV Programs
NAME:TV Programs
BEGIN:VTIMEZONE
TZID:Europe/London
TZURL:http://tzurl.org/zoneinfo/Europe/London
X-LIC-LOCATION:Europe/London
BEGIN:DAYLIGHT
TZOFFSETFROM:+0000
TZOFFSETTO:+0100
TZNAME:BST
DTSTART:20190331T020000Z
RRULE:FREQ=YEARLY;BYMONTH=3;BYDAY=-1SU
END:DAYLIGHT
BEGIN:STANDARD
TZOFFSETFROM:+0100
TZOFFSETTO:+0000
TZNAME:GMT
DTSTART:20191027T020000Z
RRULE:FREQ=YEARLY;BYMONTH=10;BYDAY=-1SU
END:STANDARD
END:VTIMEZONE
BEGIN:VEVENT
SUMMARY:[TV Broadcast] Fantasy on Ice 2019 in KOBE - Day 2
DTSTAMP:20190614T195358Z
SEQUENCE:0
UID:573-5-2d4faa662f2f2e4c4c1a0854de40d023@planethanyu.com
ORGANIZER;CN="sallycinnamon":forum@planethanyu.com
DESCRIPTION:\n\n	[This is the thread of FaOI Kobe TV broadcast on BS Asa
	hi. The discussion thread can be found here]\n\n
DTSTART:20190622T040000Z
DTEND:20190622T075400Z
ATTENDEE;CN="Frenchkiss70";CUTYPE=INDIVIDUAL;PARTSTAT=ACCEPT
	ED:forum@planethanyu.com
ATTENDEE;CN="lady16angie";CUTYPE=INDIVIDUAL;PARTSTAT=ACCEPTE
	D:forum@planethanyu.com
ATTENDEE;CN="IULIANA";CUTYPE=INDIVIDUAL;PARTSTAT=ACCEPTED:fo
	rum@planethanyu.com
ATTENDEE;CN="yuzucchini";CUTYPE=INDIVIDUAL;PARTSTAT=ACCEPTED
	:forum@planethanyu.com
END:VEVENT
END:VCALENDAR
