BEGIN:VCALENDAR
VERSION:2.0
PRODID:-//InvisionCommunity Events 4.7.23//EN
METHOD:PUBLISH
CALSCALE:GREGORIAN
REFRESH-INTERVAL:PT15M
X-PUBLISHED-TTL:PT15M
X-WR-CALNAME:Challenger Series
NAME:Challenger Series
BEGIN:VTIMEZONE
TZID:Europe/London
TZURL:http://tzurl.org/zoneinfo/Europe/London
X-LIC-LOCATION:Europe/London
BEGIN:DAYLIGHT
TZOFFSETFROM:+0000
TZOFFSETTO:+0100
TZNAME:BST
DTSTART:20180325T020000Z
RRULE:FREQ=YEARLY;BYMONTH=3;BYDAY=-1SU
END:DAYLIGHT
BEGIN:STANDARD
TZOFFSETFROM:+0100
TZOFFSETTO:+0000
TZNAME:GMT
DTSTART:20181028T020000Z
RRULE:FREQ=YEARLY;BYMONTH=10;BYDAY=-1SU
END:STANDARD
END:VTIMEZONE
BEGIN:VEVENT
SUMMARY:Ladies FS [Ondrej Nepela]
DTSTAMP:20180915T151909Z
SEQUENCE:0
UID:391-7-2d4faa662f2f2e4c4c1a0854de40d023@planethanyu.com
ORGANIZER;CN="Yatagarasu":forum@planethanyu.com
DESCRIPTION:\n\n	ISU CS 26th Ondrej Nepela Trophy 2018\n\n\n\n	ISU Chall
	enger Series\n\n\n\n	Bratislava / SVK\n\n\n\n	19.09.2018 - 22.09.2018\
	n\n\n\n	 \n\n\n\n	Ladies FS\n\n
DTSTART:20180922T100000Z
DTEND:20180922T131500Z
END:VEVENT
END:VCALENDAR
