BEGIN:VCALENDAR
VERSION:2.0
PRODID:-//InvisionCommunity Events 4.7.23//EN
METHOD:PUBLISH
CALSCALE:GREGORIAN
REFRESH-INTERVAL:PT15M
X-PUBLISHED-TTL:PT15M
X-WR-CALNAME:Junior Grand Prix 
NAME:Junior Grand Prix 
BEGIN:VTIMEZONE
TZID:Europe/London
TZURL:http://tzurl.org/zoneinfo/Europe/London
X-LIC-LOCATION:Europe/London
BEGIN:DAYLIGHT
TZOFFSETFROM:+0000
TZOFFSETTO:+0100
TZNAME:BST
DTSTART:20180325T020000Z
RRULE:FREQ=YEARLY;BYMONTH=3;BYDAY=-1SU
END:DAYLIGHT
BEGIN:STANDARD
TZOFFSETFROM:+0100
TZOFFSETTO:+0000
TZNAME:GMT
DTSTART:20181028T020000Z
RRULE:FREQ=YEARLY;BYMONTH=10;BYDAY=-1SU
END:STANDARD
END:VTIMEZONE
BEGIN:VEVENT
SUMMARY:Pairs FS [JGP 2018 Linz]
DTSTAMP:20180814T214503Z
SEQUENCE:0
UID:362-6-2d4faa662f2f2e4c4c1a0854de40d023@planethanyu.com
ORGANIZER;CN="Hydroblade":forum@planethanyu.com
DESCRIPTION:\n\n	ISU JGP Linz 2018\n\n	\n\n	Junior Pairs\n\n	\n\n	Entrie
	s\n\n\n\n	 \n\n\n\n	\n		\n			\n				\n					No.\n				\n				\n					Name\n			
		\n				\n					Nation\n				\n				\n					 \n				\n				\n					 \n				\n			\
	n			\n				\n					1\n				\n				\n					Sara Jane DANA / Livio MAYR\n				\n		
			\n					AUT\n				\n				\n					1\n				\n				\n					 \n				\n			\n			\n			
		\n					2\n				\n				\n					Heidrun PIPAL / Erik PIPAL\n				\n				\n					A
	UT\n				\n				\n					1\n				\n				\n					 \n				\n			\n			\n				\n					3\
	n				\n				\n					Gabrielle LEVESQUE / Pier-Alexandre HUDON\n				\n				\n	
					CAN\n				\n				\n					2\n				\n				\n					 \n				\n			\n			\n				\n		
				 \n				\n				\n					Brooke MCINTOSH / Brandon TOSTE\n				\n				\n					
	CAN\n				\n				\n					2\n				\n				\n					S\n				\n			\n			\n				\n					 
	\n				\n				\n					Chloe PANETTA / Benjamin MIMAR\n				\n				\n					CAN\n	
				\n				\n					2\n				\n				\n					S\n				\n			\n			\n				\n					 \n				
	\n				\n					Camille PERREAULT / Bryan PIERRO\n				\n				\n					CAN\n				\
	n				\n					2\n				\n				\n					S\n				\n			\n			\n				\n					 \n				\n		
			\n					Marine POULIOT / Alexandre SIMARD\n				\n				\n					CAN\n				\n		
			\n					2\n				\n				\n					S\n				\n			\n			\n				\n					4\n				\n				\n
						Motong LIU / Tianze WANG\n				\n				\n					CHN\n				\n				\n					3\n	
				\n				\n					 \n				\n			\n			\n				\n					5\n				\n				\n					Cleo HA
	MON / Denys STREKALIN\n				\n				\n					FRA\n				\n				\n					4\n				\n			
		\n					 \n				\n			\n			\n				\n					6\n				\n				\n					Talisa THOMALLA
	 / Robert KUNKEL\n				\n				\n					GER\n				\n				\n					5\n				\n				\n		
				 \n				\n			\n			\n				\n					 \n				\n				\n					Letizia ROSCHER / L
	uis SCHUSTER\n				\n				\n					GER\n				\n				\n					5\n				\n				\n					S
	\n				\n			\n			\n				\n					7\n				\n				\n					Hilary Elizabeth ASHER / 
	Luthra NISHCHAY\n				\n				\n					IND\n				\n				\n					6\n				\n				\n			
			 \n				\n			\n			\n				\n					8\n				\n				\n					Riku MIURA / Shoya IC
	HIHASHI\n				\n				\n					JPN\n				\n				\n					7\n				\n				\n					 \n		
			\n			\n			\n				\n					9\n				\n				\n					Amina ATAKHANOVA / Nikita VOL
	ODIN\n				\n				\n					RUS\n				\n				\n					8\n				\n				\n					 \n				\
	n			\n			\n				\n					10\n				\n				\n					Polina KOSTIUKOVICH / Dmitrii I
	ALIN\n				\n				\n					RUS\n				\n				\n					8\n				\n				\n					 \n				\
	n			\n			\n				\n					11\n				\n				\n					Anastasia POLUIANOVA / Dmitry S
	OPOT\n				\n				\n					RUS\n				\n				\n					8\n				\n				\n					 \n				\
	n			\n			\n				\n					 \n				\n				\n					Kseniia AKHANTEVA / Valerii KOL
	ESOV\n				\n				\n					RUS\n				\n				\n					8\n				\n				\n					S\n				\n
				\n			\n				\n					 \n				\n				\n					Daria KVARTALOVA / Alexei SVIATC
	HENKO\n				\n				\n					RUS\n				\n				\n					8\n				\n				\n					S\n				\
	n			\n			\n				\n					 \n				\n				\n					Nadezhda LABAZINA / Nikita RAKH
	MANIN\n				\n				\n					RUS\n				\n				\n					8\n				\n				\n					S\n				\
	n			\n			\n				\n					 \n				\n				\n					Anastasiia MELNIKOVA / Maksim S
	ELKIN\n				\n				\n					RUS\n				\n				\n					8\n				\n				\n					S\n				\
	n			\n			\n				\n					 \n				\n				\n					Anastasia MISHINA / Aleksandr G
	ALIAMOV\n				\n				\n					RUS\n				\n				\n					8\n				\n				\n					S\n			
		\n			\n			\n				\n					 \n				\n				\n					Apollinariia PANFILOVA / Dmit
	ry RYLOV\n				\n				\n					RUS\n				\n				\n					8\n				\n				\n					S\n		
			\n			\n			\n				\n					 \n				\n				\n					Alina PEPELEVA / Roman PLESH
	KOV\n				\n				\n					RUS\n				\n				\n					8\n				\n				\n					S\n				\n	
			\n			\n				\n					12\n				\n				\n					Sofiia NESTEROVA / Artem DARENSKY
	I\n				\n				\n					UKR\n				\n				\n					9\n				\n				\n					 \n				\n		
		\n			\n				\n					13\n				\n				\n					Laiken LOCKLEY / Keenan PROCHNOW\n
					\n				\n					USA\n				\n				\n					10\n				\n				\n					 \n				\n			\
	n		\n	\n\n\n\n	 \n\n
DTSTART:20180901T110000Z
DTEND:20180901T131500Z
END:VEVENT
END:VCALENDAR
