BEGIN:VCALENDAR
VERSION:2.0
PRODID:-//InvisionCommunity Events 4.7.23//EN
METHOD:PUBLISH
CALSCALE:GREGORIAN
REFRESH-INTERVAL:PT15M
X-PUBLISHED-TTL:PT15M
X-WR-CALNAME:Junior Grand Prix 
NAME:Junior Grand Prix 
BEGIN:VTIMEZONE
TZID:Europe/London
TZURL:http://tzurl.org/zoneinfo/Europe/London
X-LIC-LOCATION:Europe/London
BEGIN:DAYLIGHT
TZOFFSETFROM:+0000
TZOFFSETTO:+0100
TZNAME:BST
DTSTART:20180325T020000Z
RRULE:FREQ=YEARLY;BYMONTH=3;BYDAY=-1SU
END:DAYLIGHT
BEGIN:STANDARD
TZOFFSETFROM:+0100
TZOFFSETTO:+0000
TZNAME:GMT
DTSTART:20181028T020000Z
RRULE:FREQ=YEARLY;BYMONTH=10;BYDAY=-1SU
END:STANDARD
END:VTIMEZONE
BEGIN:VEVENT
SUMMARY:Ice Dance FD [JGP 2018 Linz]
DTSTAMP:20180814T214412Z
SEQUENCE:0
UID:361-6-2d4faa662f2f2e4c4c1a0854de40d023@planethanyu.com
ORGANIZER;CN="Hydroblade":forum@planethanyu.com
DESCRIPTION:\n\n	ISU JGP Linz 2018\n\n	\n\n	Junior Ice Dance\n\n	\n\n	En
	tries\n\n\n\n	 \n\n\n\n	\n		\n			\n				\n					No.\n				\n				\n					Name\
	n				\n				\n					Nation\n				\n				\n					 \n				\n				\n					 \n				\n
				\n			\n				\n					1\n				\n				\n					Matilda FRIEND / William BADAOUI\
	n				\n				\n					AUS\n				\n				\n					1\n				\n				\n					 \n				\n			\
	n			\n				\n					 \n				\n				\n					Jessica PALFREYMAN / Nicholas MCCREA
	RY\n				\n				\n					AUS\n				\n				\n					1\n				\n				\n					S\n				\n		
		\n			\n				\n					2\n				\n				\n					Corinna HUBER / Patrik HUBER\n				\
	n				\n					AUT\n				\n				\n					2\n				\n				\n					 \n				\n			\n			\n
					\n					3\n				\n				\n					Natalie D'ALESSANDRO / Bruce WADDELL\n				\
	n				\n					CAN\n				\n				\n					3\n				\n				\n					 \n				\n			\n			\n
					\n					4\n				\n				\n					Marjorie LAJOIE / Zachary LAGHA\n				\n				
	\n					CAN\n				\n				\n					3\n				\n				\n					 \n				\n			\n			\n				\
	n					 \n				\n				\n					Nadiia BASHYNSKA / Peter BEAUMONT\n				\n				\n
						CAN\n				\n				\n					3\n				\n				\n					S\n				\n			\n			\n				\n		
				 \n				\n				\n					Amelia BOONE / Malcolm KOWAN\n				\n				\n					CAN
	\n				\n				\n					3\n				\n				\n					S\n				\n			\n			\n				\n					 \n	
				\n				\n					Alicia FABBRI / Paul AYER\n				\n				\n					CAN\n				\n			
		\n					3\n				\n				\n					S\n				\n			\n			\n				\n					 \n				\n				\n
						Ellie FISHER / Simon-Pierre MALETTE-PAQUETTE\n				\n				\n					CAN\n	
				\n				\n					3\n				\n				\n					S\n				\n			\n			\n				\n					 \n				
	\n				\n					Irina GALIYANOVA / Grayson LOCHHEAD\n				\n				\n					CAN\n		
			\n				\n					3\n				\n				\n					S\n				\n			\n			\n				\n					 \n				\
	n				\n					Miku MAKITA / Tyler GUNARA\n				\n				\n					CAN\n				\n				\n
						3\n				\n				\n					S\n				\n			\n			\n				\n					 \n				\n				\n			
			Olivia MCISAAC / Corey CIRCELLI\n				\n				\n					CAN\n				\n				\n					
	3\n				\n				\n					S\n				\n			\n			\n				\n					 \n				\n				\n					Ash
	lynne STAIRS / Elliott GRAHAM\n				\n				\n					CAN\n				\n				\n					3\n	
				\n				\n					S\n				\n			\n			\n				\n					5\n				\n				\n					Xizi CHE
	N / Jianing XING\n				\n				\n					CHN\n				\n				\n					4\n				\n				\n		
				 \n				\n			\n			\n				\n					6\n				\n				\n					Lou TERREAU / Noe PE
	RRON\n				\n				\n					FRA\n				\n				\n					5\n				\n				\n					 \n				\
	n			\n			\n				\n					 \n				\n				\n					Loicia DEMOUGEOT / Theo LE MERC
	IER\n				\n				\n					FRA\n				\n				\n					5\n				\n				\n					S\n				\n	
			\n			\n				\n					 \n				\n				\n					Marie DUPAYAGE / Thomas NABAIS\n	
				\n				\n					FRA\n				\n				\n					5\n				\n				\n					S\n				\n			\n		
		\n				\n					 \n				\n				\n					Lila-Maya SECLET MONCHOT / Renan MANCEA
	U\n				\n				\n					FRA\n				\n				\n					5\n				\n				\n					S\n				\n			
	\n			\n				\n					7\n				\n				\n					Charise MATTHAEI / Maximilian PFISTE
	RER\n				\n				\n					GER\n				\n				\n					6\n				\n				\n					 \n				\n
				\n			\n				\n					 \n				\n				\n					Lara LUFT / Asaf KAZIMOV\n				\n
					\n					GER\n				\n				\n					6\n				\n				\n					S\n				\n			\n			\n		
			\n					 \n				\n				\n					Amanda PETERSON / Stephano Valentino SCHUSTE
	R\n				\n				\n					GER\n				\n				\n					6\n				\n				\n					S\n				\n			
	\n			\n				\n					8\n				\n				\n					Alice ROGATNIK / Yehor BARSHAK\n				
	\n				\n					ISR\n				\n				\n					7\n				\n				\n					 \n				\n			\n			\
	n				\n					 \n				\n				\n					Mariia NOSOVITSKAYA / Mikhail NOSOVITSKIY
	\n				\n				\n					ISR\n				\n				\n					7\n				\n				\n					S\n				\n			\
	n			\n				\n					9\n				\n				\n					Sara CAMPANINI / Francesco RIVA\n				
	\n				\n					ITA\n				\n				\n					8\n				\n				\n					 \n				\n			\n			\
	n				\n					 \n				\n				\n					Francesca RIGHI / Aleksei DUBROVIN\n				\
	n				\n					ITA\n				\n				\n					8\n				\n				\n					S\n				\n			\n			\n	
				\n					 \n				\n				\n					Giulia TUBA / Andrea TUBA\n				\n				\n				
		ITA\n				\n				\n					8\n				\n				\n					S\n				\n			\n			\n				\n					1
	0\n				\n				\n					Eva KUTS / Dmitrii MIKHAILOV\n				\n				\n					RUS\n		
			\n				\n					9\n				\n				\n					 \n				\n			\n			\n				\n					11\n				
	\n				\n					Sofia SHEVCHENKO / Igor EREMENKO\n				\n				\n					RUS\n				\
	n				\n					9\n				\n				\n					 \n				\n			\n			\n				\n					 \n				\n	
				\n					Ekaterina ANDREEVA / Ivan DESYATOV\n				\n				\n					RUS\n				\n
					\n					9\n				\n				\n					S\n				\n			\n			\n				\n					 \n				\n			
		\n					Polina IVANENKO / Daniil KARPOV\n				\n				\n					RUS\n				\n				\
	n					9\n				\n				\n					S\n				\n			\n			\n				\n					 \n				\n				\n		
				Elizaveta KHUDAIBERDIEVA / Nikita NAZAROV\n				\n				\n					RUS\n				\n
					\n					9\n				\n				\n					S\n				\n			\n			\n				\n					 \n				\n			
		\n					Ksenia KONKINA / Alexander VAKHNOV\n				\n				\n					RUS\n				\n		
			\n					9\n				\n				\n					S\n				\n			\n			\n				\n					 \n				\n				\
	n					Angelina LAZAREVA / Maksim PROKOFIEV\n				\n				\n					RUS\n				\n		
			\n					9\n				\n				\n					S\n				\n			\n			\n				\n					 \n				\n				\
	n					Elizaveta SHANAEVA / Devid NARYZHNYY\n				\n				\n					RUS\n				\n		
			\n					9\n				\n				\n					S\n				\n			\n			\n				\n					 \n				\n				\
	n					Sofya TYUTYUNINA / Alexander SHUSTITSKIY\n				\n				\n					RUS\n				
	\n				\n					9\n				\n				\n					S\n				\n			\n			\n				\n					 \n				\n	
				\n					Arina USHAKOVA / Maxim NEKRASOV\n				\n				\n					RUS\n				\n			
		\n					9\n				\n				\n					S\n				\n			\n			\n				\n					12\n				\n				\n
						Sophia ELDER / Christopher ELDER\n				\n				\n					USA\n				\n				\n	
					10\n				\n				\n					 \n				\n			\n			\n				\n					13\n				\n				\n		
				Jocelyn HAINES / James KOSZUTA\n				\n				\n					USA\n				\n				\n					
	10\n				\n				\n					 \n				\n			\n			\n				\n					 \n				\n				\n					K
	atarina DELCAMP / Maxwell GART\n				\n				\n					USA\n				\n				\n					10\
	n				\n				\n					S\n				\n			\n			\n				\n					 \n				\n				\n					Alina
	 EFIMOVA / Alexander PETROV\n				\n				\n					USA\n				\n				\n					10\n		
			\n				\n					S\n				\n			\n			\n				\n					 \n				\n				\n					Caroline
	 GREEN / Gordon GREEN\n				\n				\n					USA\n				\n				\n					10\n				\n		
			\n					S\n				\n			\n			\n				\n					 \n				\n				\n					Eliana GROPMAN
	 / Ian SOMERVILLE\n				\n				\n					USA\n				\n				\n					10\n				\n				\n
						S\n				\n			\n			\n				\n					 \n				\n				\n					Emma GUNTER / Cale
	b WEIN\n				\n				\n					USA\n				\n				\n					10\n				\n				\n					S\n			
		\n			\n			\n				\n					 \n				\n				\n					Avonley NGUYEN / Vadym KOLESN
	IK\n				\n				\n					USA\n				\n				\n					10\n				\n				\n					S\n				\n	
			\n			\n				\n					 \n				\n				\n					Katarina WOLFKOSTIN / Howard ZHAO
	\n				\n				\n					USA\n				\n				\n					10\n				\n				\n					S\n				\n			
	\n		\n	\n\n\n\n	 \n\n
DTSTART:20180901T083000Z
DTEND:20180901T103000Z
END:VEVENT
END:VCALENDAR
