BEGIN:VCALENDAR
VERSION:2.0
PRODID:-//InvisionCommunity Events 4.7.23//EN
METHOD:PUBLISH
CALSCALE:GREGORIAN
REFRESH-INTERVAL:PT15M
X-PUBLISHED-TTL:PT15M
X-WR-CALNAME:Challenger Series
NAME:Challenger Series
BEGIN:VTIMEZONE
TZID:Europe/London
TZURL:http://tzurl.org/zoneinfo/Europe/London
X-LIC-LOCATION:Europe/London
BEGIN:DAYLIGHT
TZOFFSETFROM:+0000
TZOFFSETTO:+0100
TZNAME:BST
DTSTART:20170326T020000Z
RRULE:FREQ=YEARLY;BYMONTH=3;BYDAY=-1SU
END:DAYLIGHT
BEGIN:STANDARD
TZOFFSETFROM:+0100
TZOFFSETTO:+0000
TZNAME:GMT
DTSTART:20171029T020000Z
RRULE:FREQ=YEARLY;BYMONTH=10;BYDAY=-1SU
END:STANDARD
END:VTIMEZONE
BEGIN:VEVENT
SUMMARY:Ladies FS - Autumn Classic International 2017
DTSTAMP:20170704T163745Z
SEQUENCE:0
UID:35-7-2d4faa662f2f2e4c4c1a0854de40d023@planethanyu.com
ORGANIZER;CN="Hydroblade":forum@planethanyu.com
DESCRIPTION:\n\n	2017 Autumn Classic International - Ladies Free Skating
	\n\n\n\n	\n\n\n	\n\n	 \n\n\n\n	ISU CS Autumn Classic International 2017\n
	Ladies\n\n	 \n\n\n\n	\n\n\n					No.\n				\n				\n					Name\n				\n				\n	
					Nation\n				\n				\n					 \n				\n			\n\n\n					1\n				\n				\n					B
	rooklee HAN\n				\n				\n					AUS\n				\n				\n					1\n				\n			\n\n\n				
		2\n				\n				\n					Alaine CHARTRAND\n				\n				\n					CAN\n				\n				\n	
					2\n				\n			\n\n\n					3\n				\n				\n					Kaetlyn OSMOND\n				\n				\
	n					CAN\n				\n				\n					2\n				\n			\n\n\n					4\n				\n				\n					Sar
	ah TAMURA\n				\n				\n					CAN\n				\n				\n					2\n				\n			\n\n\n					5
	\n				\n				\n					Mae Berenice MEITE\n				\n				\n					FRA\n				\n				\n	
					3\n				\n			\n\n\n					6\n				\n				\n					Michelle LIFSHITS\n				\n		
			\n					ISR\n				\n				\n					4\n				\n			\n\n\n					7\n				\n				\n					
	Netta SCHREIBER\n				\n				\n					ISR\n				\n				\n					4\n				\n			\n\n\n
						8\n				\n				\n					Mai MIHARA\n				\n				\n					JPN\n				\n				\n			
			5\n				\n			\n\n\n					9\n				\n				\n					Rin NITAYA\n				\n				\n					
	JPN\n				\n				\n					5\n				\n			\n\n\n					10\n				\n				\n					Anastass
	iya KHVAN\n				\n				\n					KAZ\n				\n				\n					6\n				\n			\n\n\n					1
	1\n				\n				\n					Elizabet TURSYNBAEVA\n				\n				\n					KAZ\n				\n				
	\n					6\n				\n			\n\n\n					12\n				\n				\n					Amanda STAN\n				\n				
	\n					ROU\n				\n				\n					7\n				\n			\n\n\n					13\n				\n				\n					C
	hloe ING\n				\n				\n					SGP\n				\n				\n					8\n				\n			\n\n\n					14
	\n				\n				\n					Natalie SANGKAGALO\n				\n				\n					THA\n				\n				\n	
					9\n				\n			\n\n\n					15\n				\n				\n					Anastasia KONONENKO\n				\
	n				\n					UKR\n				\n				\n					10\n				\n			\n\n\n					16\n				\n				\n
						Courtney HICKS\n				\n				\n					USA\n				\n				\n					11\n				\n			\
	n\n\n					17\n				\n				\n					Olivia Josephine SHILLING\n				\n				\n				
		USA\n				\n				\n					11\n				\n			\n\n\n					18\n				\n				\n					Megan 
	WESSENBERG\n				\n				\n					USA\n				\n				\n					11\n				\n			\n\n\n				
		S\n				\n				\n					Avery KURTZ\n				\n				\n					USA\n				\n				\n					1
	1\n				\n			\n\n\n					S\n				\n				\n					Vivian LE\n				\n				\n					USA
	\n				\n				\n					11\n				\n			\n\n\n					S\n				\n				\n					Angela WANG
	\n				\n				\n					USA\n				\n				\n					11\n				\n			\n\n\n
DTSTART:20170923T174500Z
DTEND:20170923T205000Z
END:VEVENT
END:VCALENDAR
