BEGIN:VCALENDAR
VERSION:2.0
PRODID:-//InvisionCommunity Events 4.7.23//EN
METHOD:PUBLISH
CALSCALE:GREGORIAN
REFRESH-INTERVAL:PT15M
X-PUBLISHED-TTL:PT15M
X-WR-CALNAME:Junior Grand Prix 
NAME:Junior Grand Prix 
BEGIN:VTIMEZONE
TZID:Europe/London
TZURL:http://tzurl.org/zoneinfo/Europe/London
X-LIC-LOCATION:Europe/London
BEGIN:DAYLIGHT
TZOFFSETFROM:+0000
TZOFFSETTO:+0100
TZNAME:BST
DTSTART:20180325T020000Z
RRULE:FREQ=YEARLY;BYMONTH=3;BYDAY=-1SU
END:DAYLIGHT
BEGIN:STANDARD
TZOFFSETFROM:+0100
TZOFFSETTO:+0000
TZNAME:GMT
DTSTART:20181028T020000Z
RRULE:FREQ=YEARLY;BYMONTH=10;BYDAY=-1SU
END:STANDARD
END:VTIMEZONE
BEGIN:VEVENT
SUMMARY:Ladies SP [JGP 2018 Bratislava]
DTSTAMP:20180814T212057Z
SEQUENCE:0
UID:349-6-2d4faa662f2f2e4c4c1a0854de40d023@planethanyu.com
ORGANIZER;CN="Hydroblade":forum@planethanyu.com
DESCRIPTION:\n\n	ISU JGP Bratislava 2018\n\n	\n\n	Junior Ladies\n\n	\n\n
		Entries\n\n\n\n	 \n\n\n\n	\n		\n			\n				\n					No.\n				\n				\n					Na
	me\n				\n				\n					Nation\n				\n				\n					 \n				\n				\n					 \n			
		\n			\n			\n				\n					1\n				\n				\n					Virginia Elisa BUSTOS\n				\n	
				\n					ARG\n				\n				\n					1\n				\n				\n					 \n				\n			\n			\n		
			\n					2\n				\n				\n					Sophia SCHALLER\n				\n				\n					AUT\n				\n
					\n					2\n				\n				\n					 \n				\n			\n			\n				\n					 \n				\n		
			\n					Jasmin ELSEBAIE\n				\n				\n					AUT\n				\n				\n					2\n				\n
					\n					S\n				\n			\n			\n				\n					 \n				\n				\n					Sophie-Laure
	en GUENTHER\n				\n				\n					AUT\n				\n				\n					2\n				\n				\n					S\
	n				\n			\n			\n				\n					 \n				\n				\n					Olga MIKUTINA\n				\n				
	\n					AUT\n				\n				\n					2\n				\n				\n					S\n				\n			\n			\n				\n
						 \n				\n				\n					Stefanie PESENDORFER\n				\n				\n					AUT\n				
	\n				\n					2\n				\n				\n					S\n				\n			\n			\n				\n					 \n				\n	
				\n					Lara ROTH\n				\n				\n					AUT\n				\n				\n					2\n				\n				\
	n					S\n				\n			\n			\n				\n					 \n				\n				\n					Alisa STOMAKHINA\
	n				\n				\n					AUT\n				\n				\n					2\n				\n				\n					S\n				\n			\n
				\n				\n					3\n				\n				\n					Kim CHEREMSKY\n				\n				\n					AZE\n	
				\n				\n					3\n				\n				\n					 \n				\n			\n			\n				\n					4\n				
	\n				\n					Alexandra FEIGIN\n				\n				\n					BUL\n				\n				\n					4\n	
				\n				\n					 \n				\n			\n			\n				\n					 \n				\n				\n					Kristi
	na GRIGOROVA\n				\n				\n					BUL\n				\n				\n					4\n				\n				\n					S
	\n				\n			\n			\n				\n					 \n				\n				\n					Eliza PANCHEVA\n				\n		
			\n					BUL\n				\n				\n					4\n				\n				\n					S\n				\n			\n			\n				
	\n					5\n				\n				\n					Alison SCHUMACHER\n				\n				\n					CAN\n				\n
					\n					5\n				\n				\n					 \n				\n			\n			\n				\n					 \n				\n		
			\n					Sarah-Maude BLANCHARD\n				\n				\n					CAN\n				\n				\n					5\n
					\n				\n					S\n				\n			\n			\n				\n					 \n				\n				\n					Victor
	ia BOCKNEK\n				\n				\n					CAN\n				\n				\n					5\n				\n				\n					S\n
					\n			\n			\n				\n					 \n				\n				\n					Emma BULAWKA\n				\n				\n
						CAN\n				\n				\n					5\n				\n				\n					S\n				\n			\n			\n				\n		
				 \n				\n				\n					Catherine CARLE\n				\n				\n					CAN\n				\n				\
	n					5\n				\n				\n					S\n				\n			\n			\n				\n					 \n				\n				\n		
				Daria CARR\n				\n				\n					CAN\n				\n				\n					5\n				\n				\n					
	S\n				\n			\n			\n				\n					 \n				\n				\n					Hannah DAWSON\n				\n		
			\n					CAN\n				\n				\n					5\n				\n				\n					S\n				\n			\n			\n				
	\n					 \n				\n				\n					Olivia GRAN\n				\n				\n					CAN\n				\n				\
	n					5\n				\n				\n					S\n				\n			\n			\n				\n					 \n				\n				\n		
				Leah LEE\n				\n				\n					CAN\n				\n				\n					5\n				\n				\n					S\
	n				\n			\n			\n				\n					 \n				\n				\n					Lissa Anne MCGAGHEY\n				
	\n				\n					CAN\n				\n				\n					5\n				\n				\n					S\n				\n			\n			\n
					\n					 \n				\n				\n					Amelia ORZEL\n				\n				\n					CAN\n				\n
					\n					5\n				\n				\n					S\n				\n			\n			\n				\n					6\n				\n				
	\n					Hana CVIJANOVIC\n				\n				\n					CRO\n				\n				\n					6\n				\n		
			\n					 \n				\n			\n			\n				\n					 \n				\n				\n					Katarina KITA
	ROVIC\n				\n				\n					CRO\n				\n				\n					6\n				\n				\n					S\n				\
	n			\n			\n				\n					 \n				\n				\n					Hana KOSIC\n				\n				\n					CR
	O\n				\n				\n					6\n				\n				\n					S\n				\n			\n			\n				\n					7\n	
				\n				\n					Daniela KO\n				\n				\n					CZE\n				\n				\n					7\n				
	\n				\n					 \n				\n			\n			\n				\n					 \n				\n				\n					Katerina 
	FRICOVA\n				\n				\n					CZE\n				\n				\n					7\n				\n				\n					S\n			
		\n			\n			\n				\n					 \n				\n				\n					Michaela Lucie HANZLIKOVA\n		
			\n				\n					CZE\n				\n				\n					7\n				\n				\n					S\n				\n			\n			
	\n				\n					 \n				\n				\n					Aneta JANICZKOVA\n				\n				\n					CZE\n
					\n				\n					7\n				\n				\n					S\n				\n			\n			\n				\n					 \n			
		\n				\n					Nikola RYCHTARIKOVA\n				\n				\n					CZE\n				\n				\n					
	7\n				\n				\n					S\n				\n			\n			\n				\n					 \n				\n				\n					Kla
	ra STEPANOVA\n				\n				\n					CZE\n				\n				\n					7\n				\n				\n					S
	\n				\n			\n			\n				\n					8\n				\n				\n					Maia SORENSEN\n				\n				
	\n					DEN\n				\n				\n					8\n				\n				\n					 \n				\n			\n			\n				\
	n					9\n				\n				\n					Elodie EUDINE\n				\n				\n					GER\n				\n				\
	n					9\n				\n				\n					 \n				\n			\n			\n				\n					 \n				\n				\n	
					Franziska KETTL\n				\n				\n					GER\n				\n				\n					9\n				\n				\
	n					S\n				\n			\n			\n				\n					 \n				\n				\n					Tiffany KLAUNIG\n
					\n				\n					GER\n				\n				\n					9\n				\n				\n					S\n				\n			\n	
			\n				\n					10\n				\n				\n					Kristen SPOURS\n				\n				\n					GBR\n
					\n				\n					10\n				\n				\n					 \n				\n			\n			\n				\n					 \n	
				\n				\n					Anna LITVINENKO\n				\n				\n					GBR\n				\n				\n					10
	\n				\n				\n					S\n				\n			\n			\n				\n					 \n				\n				\n					Vict
	oria MCMAHON\n				\n				\n					GBR\n				\n				\n					10\n				\n				\n					
	S\n				\n			\n			\n				\n					 \n				\n				\n					Anastasia VAIPAN-LAW\n	
				\n				\n					GBR\n				\n				\n					10\n				\n				\n					S\n				\n			\n	
			\n				\n					11\n				\n				\n					Yi Christy LEUNG\n				\n				\n					HKG
	\n				\n				\n					11\n				\n				\n					 \n				\n			\n			\n				\n					 \
	n				\n				\n					Joyce Selina CHAN\n				\n				\n					HKG\n				\n				\n			
			11\n				\n				\n					S\n				\n			\n			\n				\n					 \n				\n				\n					
	Hiu Yau CHOW\n				\n				\n					HKG\n				\n				\n					11\n				\n				\n					
	S\n				\n			\n			\n				\n					12\n				\n				\n					Julia LANG\n				\n				\
	n					HUN\n				\n				\n					12\n				\n				\n					 \n				\n			\n			\n				\
	n					 \n				\n				\n					Emese GLOZIK\n				\n				\n					HUN\n				\n				\
	n					12\n				\n				\n					S\n				\n			\n			\n				\n					 \n				\n				\n	
					Dora NAGY\n				\n				\n					HUN\n				\n				\n					12\n				\n				\n				
		S\n				\n			\n			\n				\n					 \n				\n				\n					Csenge RABB\n				\n			
		\n					HUN\n				\n				\n					12\n				\n				\n					S\n				\n			\n			\n				
	\n					13\n				\n				\n					Viktoria BJORNSDOTTIR\n				\n				\n					ISL\n	
				\n				\n					13\n				\n				\n					 \n				\n			\n			\n				\n					 \n		
			\n				\n					Emilia Ros OMARSDOTTIR\n				\n				\n					ISL\n				\n				\n	
					13\n				\n				\n					S\n				\n			\n			\n				\n					14\n				\n				\n			
			Savika Refa ZAHIRA\n				\n				\n					INA\n				\n				\n					14\n				\n			
		\n					 \n				\n			\n			\n				\n					15\n				\n				\n					Alessia TORNAG
	HI\n				\n				\n					ITA\n				\n				\n					15\n				\n				\n					 \n				\n
				\n			\n				\n					 \n				\n				\n					Lucrezia BECCARI\n				\n				\n		
				ITA\n				\n				\n					15\n				\n				\n					S\n				\n			\n			\n				\n			
			 \n				\n				\n					Lara Naki GUTMANN\n				\n				\n					ITA\n				\n				
	\n					15\n				\n				\n					S\n				\n			\n			\n				\n					 \n				\n				\n
						Elisabetta LECCARDI\n				\n				\n					ITA\n				\n				\n					15\n				\
	n				\n					S\n				\n			\n			\n				\n					 \n				\n				\n					Marina PIRE
	DDA\n				\n				\n					ITA\n				\n				\n					15\n				\n				\n					S\n				\n
				\n			\n				\n					16\n				\n				\n					Tomoe KAWABATA\n				\n				\n				
		JPN\n				\n				\n					16\n				\n				\n					 \n				\n			\n			\n				\n				
		17\n				\n				\n					Yuhana YOKOI\n				\n				\n					JPN\n				\n				\n				
		16\n				\n				\n					 \n				\n			\n			\n				\n					 \n				\n				\n					
	Yuna AOKI\n				\n				\n					JPN\n				\n				\n					16\n				\n				\n					S\n
					\n			\n			\n				\n					 \n				\n				\n					Nana ARAKI\n				\n				\n		
				JPN\n				\n				\n					16\n				\n				\n					S\n				\n			\n			\n				\n			
			 \n				\n				\n					Moa IWANO\n				\n				\n					JPN\n				\n				\n					1
	6\n				\n				\n					S\n				\n			\n			\n				\n					 \n				\n				\n					Sor
	a MAENO\n				\n				\n					JPN\n				\n				\n					16\n				\n				\n					S\n		
			\n			\n			\n				\n					 \n				\n				\n					Rion SUMIYOSHI\n				\n				\n
						JPN\n				\n				\n					16\n				\n				\n					S\n				\n			\n			\n				\n	
					 \n				\n				\n					Riko TAKINO\n				\n				\n					JPN\n				\n				\n		
				16\n				\n				\n					S\n				\n			\n			\n				\n					 \n				\n				\n				
		Kinayu YOKOI\n				\n				\n					JPN\n				\n				\n					16\n				\n				\n				
		S\n				\n			\n			\n				\n					 \n				\n				\n					Shiika YOSHIOKA\n				\
	n				\n					JPN\n				\n				\n					16\n				\n				\n					S\n				\n			\n			\n
					\n					18\n				\n				\n					Azhar ZHUMAKHANOVA\n				\n				\n					KAZ\n
					\n				\n					17\n				\n				\n					 \n				\n			\n			\n				\n					 \n	
				\n				\n					Veronika SHEVELEVA\n				\n				\n					KAZ\n				\n				\n				
		17\n				\n				\n					S\n				\n			\n			\n				\n					 \n				\n				\n					D
	iana SULEIMENOVA\n				\n				\n					KAZ\n				\n				\n					17\n				\n				\n	
					S\n				\n			\n			\n				\n					19\n				\n				\n					Gemma MARSHALL\n			
		\n				\n					LUX\n				\n				\n					18\n				\n				\n					 \n				\n			\n		
		\n				\n					20\n				\n				\n					Andrea MONTESINOS CANTU\n				\n				\n		
				MEX\n				\n				\n					19\n				\n				\n					 \n				\n			\n			\n				\n		
				21\n				\n				\n					Frida Turiddotter BERGE\n				\n				\n					NOR\n			
		\n				\n					20\n				\n				\n					 \n				\n			\n			\n				\n					22\n				
	\n				\n					Ji hun TO\n				\n				\n					KOR\n				\n				\n					21\n				\n	
				\n					 \n				\n			\n			\n				\n					23\n				\n				\n					Young YOU\n	
				\n				\n					KOR\n				\n				\n					21\n				\n				\n					 \n				\n			\n
				\n				\n					 \n				\n				\n					Gyo Hee JEON\n				\n				\n					KOR\n	
				\n				\n					21\n				\n				\n					S\n				\n			\n			\n				\n					 \n			
		\n				\n					Su Been JEON\n				\n				\n					KOR\n				\n				\n					21\n			
		\n				\n					S\n				\n			\n			\n				\n					 \n				\n				\n					Minseung 
	KIM\n				\n				\n					KOR\n				\n				\n					21\n				\n				\n					S\n				\n
				\n			\n				\n					 \n				\n				\n					Seungbeen YU\n				\n				\n					K
	OR\n				\n				\n					21\n				\n				\n					S\n				\n			\n			\n				\n					24
	\n				\n				\n					Ana Sofia BESCHEA\n				\n				\n					ROU\n				\n				\n		
				22\n				\n				\n					 \n				\n			\n			\n				\n					 \n				\n				\n			
			Ana Maria ION\n				\n				\n					ROU\n				\n				\n					22\n				\n				\n		
				S\n				\n			\n			\n				\n					 \n				\n				\n					Bristena Patricia PR
	ODEA\n				\n				\n					ROU\n				\n				\n					22\n				\n				\n					S\n				\
	n			\n			\n				\n					 \n				\n				\n					Andreea URECHE\n				\n				\n			
			ROU\n				\n				\n					22\n				\n				\n					S\n				\n			\n			\n				\n				
		25\n				\n				\n					Anna SHCHERBAKOVA\n				\n				\n					RUS\n				\n				\
	n					23\n				\n				\n					 \n				\n			\n			\n				\n					26\n				\n				\n
						Anna TARUSINA\n				\n				\n					RUS\n				\n				\n					23\n				\n				\
	n					 \n				\n			\n			\n				\n					 \n				\n				\n					Anastasiia GUBAN
	OVA\n				\n				\n					RUS\n				\n				\n					23\n				\n				\n					S\n				\n
				\n			\n				\n					 \n				\n				\n					Anastasiia GULIAKOVA\n				\n				
	\n					RUS\n				\n				\n					23\n				\n				\n					S\n				\n			\n			\n				\
	n					 \n				\n				\n					Alena KANYSHEVA\n				\n				\n					RUS\n				\n		
			\n					23\n				\n				\n					S\n				\n			\n			\n				\n					 \n				\n				
	\n					Alena KOSTORNAIA\n				\n				\n					RUS\n				\n				\n					23\n				\n
					\n					S\n				\n			\n			\n				\n					 \n				\n				\n					Anastasia KO
	STYUK\n				\n				\n					RUS\n				\n				\n					23\n				\n				\n					S\n				
	\n			\n			\n				\n					 \n				\n				\n					Kseniia SINITSYNA\n				\n				\
	n					RUS\n				\n				\n					23\n				\n				\n					S\n				\n			\n			\n				\n
						 \n				\n				\n					Anastasia TARAKANOVA\n				\n				\n					RUS\n				
	\n				\n					23\n				\n				\n					S\n				\n			\n			\n				\n					 \n				\n
					\n					Alexandra TRUSOVA\n				\n				\n					RUS\n				\n				\n					23\n	
				\n				\n					S\n				\n			\n			\n				\n					 \n				\n				\n					Viktori
	a VASILIEVA\n				\n				\n					RUS\n				\n				\n					23\n				\n				\n					S
	\n				\n			\n			\n				\n					27\n				\n				\n					Ema DOBOSZOVA\n				\n			
		\n					SVK\n				\n				\n					24\n				\n				\n					 \n				\n			\n			\n			
		\n					28\n				\n				\n					Alexandra Michaela FILCOVA\n				\n				\n					
	SVK\n				\n				\n					24\n				\n				\n					 \n				\n			\n			\n				\n					
	29\n				\n				\n					Silvia HUGEC\n				\n				\n					SVK\n				\n				\n					
	24\n				\n				\n					 \n				\n			\n			\n				\n					 \n				\n				\n					A
	gata BACOVA\n				\n				\n					SVK\n				\n				\n					24\n				\n				\n					S
	\n				\n			\n			\n				\n					 \n				\n				\n					Nina LETENAYOVA\n				\n	
				\n					SVK\n				\n				\n					24\n				\n				\n					S\n				\n			\n			\n		
			\n					 \n				\n				\n					Claudia MIFKOVICOVA\n				\n				\n					SVK\n	
				\n				\n					24\n				\n				\n					S\n				\n			\n			\n				\n					 \n			
		\n				\n					Maria Sofia PUCHEROVA\n				\n				\n					SVK\n				\n				\n			
			24\n				\n				\n					S\n				\n			\n			\n				\n					30\n				\n				\n					
	Nea SMOLEJ\n				\n				\n					SLO\n				\n				\n					25\n				\n				\n					 
	\n				\n			\n			\n				\n					 \n				\n				\n					Ana CMER\n				\n				\n		
				SLO\n				\n				\n					25\n				\n				\n					S\n				\n			\n			\n				\n			
			 \n				\n				\n					Lara HROVAT\n				\n				\n					SLO\n				\n				\n				
		25\n				\n				\n					S\n				\n			\n			\n				\n					 \n				\n				\n					N
	ina POLSAK\n				\n				\n					SLO\n				\n				\n					25\n				\n				\n					S\
	n				\n			\n			\n				\n					31\n				\n				\n					Anna BERTRAN\n				\n				\
	n					ESP\n				\n				\n					26\n				\n				\n					 \n				\n			\n			\n				\
	n					32\n				\n				\n					Smilla SZALKAI\n				\n				\n					SWE\n				\n			
		\n					27\n				\n				\n					 \n				\n			\n			\n				\n					 \n				\n				
	\n					Cassandra JOHANSSON\n				\n				\n					SWE\n				\n				\n					27\n			
		\n				\n					S\n				\n			\n			\n				\n					33\n				\n				\n					Maia MAZZ
	ARA\n				\n				\n					SUI\n				\n				\n					28\n				\n				\n					 \n				\
	n			\n			\n				\n					 \n				\n				\n					Noemie BODENSTEIN\n				\n				\n
						SUI\n				\n				\n					28\n				\n				\n					S\n				\n			\n			\n				\n	
					 \n				\n				\n					Giulia CELIO\n				\n				\n					SUI\n				\n				\n	
					28\n				\n				\n					S\n				\n			\n			\n				\n					 \n				\n				\n			
			Anaïs CORADUCCI\n				\n				\n					SUI\n				\n				\n					28\n				\n				\
	n					S\n				\n			\n			\n				\n					 \n				\n				\n					Nicole ZAIKA\n			
		\n				\n					SUI\n				\n				\n					28\n				\n				\n					S\n				\n			\n			
	\n				\n					34\n				\n				\n					Anna RAKOVYCH\n				\n				\n					UKR\n			
		\n				\n					29\n				\n				\n					 \n				\n			\n			\n				\n					 \n				
	\n				\n					Anastasiia ARKHIPOVA\n				\n				\n					UKR\n				\n				\n					
	29\n				\n				\n					S\n				\n			\n			\n				\n					 \n				\n				\n					Ma
	ryna ZHDANOVYCH\n				\n				\n					UKR\n				\n				\n					29\n				\n				\n		
				S\n				\n			\n			\n				\n					35\n				\n				\n					Pooja KALYAN\n				\n
					\n					USA\n				\n				\n					30\n				\n				\n					 \n				\n			\n			\n
					\n					 \n				\n				\n					Maxine BAUTISTA\n				\n				\n					USA\n			
		\n				\n					30\n				\n				\n					S\n				\n			\n			\n				\n					 \n				\
	n				\n					Emma COPPESS\n				\n				\n					USA\n				\n				\n					30\n				\
	n				\n					S\n				\n			\n			\n				\n					 \n				\n				\n					Ting CUI\n	
				\n				\n					USA\n				\n				\n					30\n				\n				\n					S\n				\n			\n	
			\n				\n					 \n				\n				\n					Hanna HARRELL\n				\n				\n					USA\n	
				\n				\n					30\n				\n				\n					S\n				\n			\n			\n				\n					 \n			
		\n				\n					Angelina HUANG\n				\n				\n					USA\n				\n				\n					30\n	
				\n				\n					S\n				\n			\n			\n				\n					 \n				\n				\n					Gabriel
	la IZZO\n				\n				\n					USA\n				\n				\n					30\n				\n				\n					S\n		
			\n			\n			\n				\n					 \n				\n				\n					Sarah JUNG\n				\n				\n				
		USA\n				\n				\n					30\n				\n				\n					S\n				\n			\n			\n				\n					
	 \n				\n				\n					Ashley LIN\n				\n				\n					USA\n				\n				\n					30
	\n				\n				\n					S\n				\n			\n			\n				\n					 \n				\n				\n					Akar
	i NAKAHARA\n				\n				\n					USA\n				\n				\n					30\n				\n				\n					S\
	n				\n			\n			\n				\n					 \n				\n				\n					Kaitlyn NGUYEN\n				\n			
		\n					USA\n				\n				\n					30\n				\n				\n					S\n				\n			\n			\n				
	\n					 \n				\n				\n					Jenna SHI\n				\n				\n					USA\n				\n				\n	
					30\n				\n				\n					S\n				\n			\n			\n				\n					 \n				\n				\n			
			Audrey SHIN\n				\n				\n					USA\n				\n				\n					30\n				\n				\n				
		S\n				\n			\n		\n	\n\n\n\n	 \n\n
DTSTART:20180822T230000Z
END:VEVENT
END:VCALENDAR
