BEGIN:VCALENDAR
VERSION:2.0
PRODID:-//InvisionCommunity Events 4.7.23//EN
METHOD:PUBLISH
CALSCALE:GREGORIAN
REFRESH-INTERVAL:PT15M
X-PUBLISHED-TTL:PT15M
X-WR-CALNAME:TV Programs
NAME:TV Programs
BEGIN:VTIMEZONE
TZID:Europe/London
TZURL:http://tzurl.org/zoneinfo/Europe/London
X-LIC-LOCATION:Europe/London
BEGIN:DAYLIGHT
TZOFFSETFROM:+0000
TZOFFSETTO:+0100
TZNAME:BST
DTSTART:20180325T020000Z
RRULE:FREQ=YEARLY;BYMONTH=3;BYDAY=-1SU
END:DAYLIGHT
BEGIN:STANDARD
TZOFFSETFROM:+0100
TZOFFSETTO:+0000
TZNAME:GMT
DTSTART:20181028T020000Z
RRULE:FREQ=YEARLY;BYMONTH=10;BYDAY=-1SU
END:STANDARD
END:VTIMEZONE
BEGIN:VEVENT
SUMMARY:[TV Broadcast] Denis Ten and Friends
DTSTAMP:20180720T192407Z
SEQUENCE:0
UID:335-5-2d4faa662f2f2e4c4c1a0854de40d023@planethanyu.com
ORGANIZER;CN="Hydroblade":forum@planethanyu.com
DESCRIPTION:\n\n	[This is a broadcast by Kazakh TV. The discussion threa
	d can be found here]\n\n\n\n	\n\n
DTSTART:20180722T090000Z
ATTENDEE;CN="Klera";CUTYPE=INDIVIDUAL;PARTSTAT=ACCEPTED:foru
	m@planethanyu.com
ATTENDEE;CN="k_no_uta";CUTYPE=INDIVIDUAL;PARTSTAT=ACCEPTED:f
	orum@planethanyu.com
ATTENDEE;CN="Ayana";CUTYPE=INDIVIDUAL;PARTSTAT=ACCEPTED:foru
	m@planethanyu.com
END:VEVENT
END:VCALENDAR
