BEGIN:VCALENDAR
VERSION:2.0
PRODID:-//InvisionCommunity Events 4.7.23//EN
METHOD:PUBLISH
CALSCALE:GREGORIAN
REFRESH-INTERVAL:PT15M
X-PUBLISHED-TTL:PT15M
X-WR-CALNAME:TV Programs
NAME:TV Programs
BEGIN:VTIMEZONE
TZID:Europe/London
TZURL:http://tzurl.org/zoneinfo/Europe/London
X-LIC-LOCATION:Europe/London
BEGIN:DAYLIGHT
TZOFFSETFROM:+0000
TZOFFSETTO:+0100
TZNAME:BST
DTSTART:20180325T020000Z
RRULE:FREQ=YEARLY;BYMONTH=3;BYDAY=-1SU
END:DAYLIGHT
BEGIN:STANDARD
TZOFFSETFROM:+0100
TZOFFSETTO:+0000
TZNAME:GMT
DTSTART:20181028T020000Z
RRULE:FREQ=YEARLY;BYMONTH=10;BYDAY=-1SU
END:STANDARD
END:VTIMEZONE
BEGIN:VEVENT
SUMMARY:[Tv Broadcast] Fantasy on Ice 2018 in NIIGATA
DTSTAMP:20180706T154757Z
SEQUENCE:0
UID:332-5-2d4faa662f2f2e4c4c1a0854de40d023@planethanyu.com
ORGANIZER;CN="Hydroblade":forum@planethanyu.com
DESCRIPTION:\n\n	[This is a TV broadcast by BS Fuji. Discussion thread c
	an be found here]\n\n\n\n	\n\n
DTSTART:20180714T080000Z
DTEND:20180714T085500Z
ATTENDEE;CN="yuzu.fairy";CUTYPE=INDIVIDUAL;PARTSTAT=ACCEPTED
	:forum@planethanyu.com
ATTENDEE;CN="lady16angie";CUTYPE=INDIVIDUAL;PARTSTAT=ACCEPTE
	D:forum@planethanyu.com
END:VEVENT
END:VCALENDAR
