BEGIN:VCALENDAR
VERSION:2.0
PRODID:-//InvisionCommunity Events 4.7.23//EN
METHOD:PUBLISH
CALSCALE:GREGORIAN
REFRESH-INTERVAL:PT15M
X-PUBLISHED-TTL:PT15M
X-WR-CALNAME:Other Competitions
NAME:Other Competitions
BEGIN:VTIMEZONE
TZID:Europe/London
TZURL:http://tzurl.org/zoneinfo/Europe/London
X-LIC-LOCATION:Europe/London
BEGIN:DAYLIGHT
TZOFFSETFROM:+0000
TZOFFSETTO:+0100
TZNAME:BST
DTSTART:20180325T020000Z
RRULE:FREQ=YEARLY;BYMONTH=3;BYDAY=-1SU
END:DAYLIGHT
BEGIN:STANDARD
TZOFFSETFROM:+0100
TZOFFSETTO:+0000
TZNAME:GMT
DTSTART:20181028T020000Z
RRULE:FREQ=YEARLY;BYMONTH=10;BYDAY=-1SU
END:STANDARD
END:VTIMEZONE
BEGIN:VEVENT
SUMMARY:Junior Ladies SP - CdP
DTSTAMP:20180316T175243Z
SEQUENCE:0
UID:277-3-2d4faa662f2f2e4c4c1a0854de40d023@planethanyu.com
ORGANIZER;CN="Hydroblade":forum@planethanyu.com
DESCRIPTION:\n\n	\n\n\n\n	Coupe du Printemps - Luxembourg\n\n\n\n	Junior
	 Ladies\n\n\n\n	\n		\n			\n				Name\n			\n			\n				Nation\n			\n		\n		\n		
		\n				Olga MIKUTINA\n			\n			\n				AUT\n			\n		\n		\n			\n				Eliana KALO
	GIROU\n			\n			\n				CYP\n			\n		\n		\n			\n				Linnea CEDER\n			\n			\n		
			FIN\n			\n		\n		\n			\n				Laura KARHUNEN\n			\n			\n				FIN\n			\n		\n	
		\n			\n				Enja RUOKONEN\n			\n			\n				FIN\n			\n		\n		\n			\n				Anni S
	KOGBERG\n			\n			\n				FIN\n			\n		\n		\n			\n				Lea SCHWAMBERGER\n			\n	
			\n				GER\n			\n		\n		\n			\n				Charlie Kaye ANDERSON\n			\n			\n				GB
	R\n			\n		\n		\n			\n				Victoria McMAHON\n			\n			\n				GBR\n			\n		\n		\
	n			\n				Hiu Lok CHOW\n			\n			\n				HKG\n			\n		\n		\n			\n				Hiu Yau C
	HOW\n			\n			\n				HKG\n			\n		\n		\n			\n				Lara Naki GUTMANN\n			\n			\
	n				ITA\n			\n		\n		\n			\n				Greta LUPATTELLI\n			\n			\n				ITA\n			\n
			\n		\n			\n				Anna MEMOLA\n			\n			\n				ITA\n			\n		\n		\n			\n				Giu
	ditta SARTORI\n			\n			\n				ITA\n			\n		\n		\n			\n				Marta Maria SELLAR
	OLI\n			\n			\n				ITA\n			\n		\n		\n			\n				Alessia TORNAGHI\n			\n			\n
					ITA\n			\n		\n		\n			\n				Sophia KAMMANN\n			\n			\n				LUX\n			\n		\
	n		\n			\n				Gemma MARSHALL\n			\n			\n				LUX\n			\n		\n		\n			\n				Rox
	anne JANSSEN\n			\n			\n				NED\n			\n		\n		\n			\n				Caya SCHEEPENS\n			
	\n			\n				NED\n			\n		\n		\n			\n				Linden VAN BEMMEL\n			\n			\n				NED
	\n			\n		\n		\n			\n				Lenne VAN GORP\n			\n			\n				NED\n			\n		\n		\n		
		\n				Frida BERGE\n			\n			\n				NOR\n			\n		\n		\n			\n				Andrea LAE\n	
			\n			\n				NOR\n			\n		\n		\n			\n				Marianne STALEN\n			\n			\n				NOR
	\n			\n		\n		\n			\n				Emma KIVIOJA\n			\n			\n				SWE\n			\n		\n		\n			\
	n				Tifannie BARTSCHI\n			\n			\n				SUI\n			\n		\n		\n			\n				Federica 
	MAGNIFICO\n			\n			\n				SUI\n			\n		\n	\n\n\n\n	 \n\n
DTSTART:20180316T122000Z
DTEND:20180316T160700Z
END:VEVENT
END:VCALENDAR
