BEGIN:VCALENDAR
VERSION:2.0
PRODID:-//InvisionCommunity Events 4.7.23//EN
METHOD:PUBLISH
CALSCALE:GREGORIAN
REFRESH-INTERVAL:PT15M
X-PUBLISHED-TTL:PT15M
X-WR-CALNAME:ISU Championships
NAME:ISU Championships
BEGIN:VTIMEZONE
TZID:Europe/London
TZURL:http://tzurl.org/zoneinfo/Europe/London
X-LIC-LOCATION:Europe/London
BEGIN:DAYLIGHT
TZOFFSETFROM:+0000
TZOFFSETTO:+0100
TZNAME:BST
DTSTART:20180325T020000Z
RRULE:FREQ=YEARLY;BYMONTH=3;BYDAY=-1SU
END:DAYLIGHT
BEGIN:STANDARD
TZOFFSETFROM:+0100
TZOFFSETTO:+0000
TZNAME:GMT
DTSTART:20181028T020000Z
RRULE:FREQ=YEARLY;BYMONTH=10;BYDAY=-1SU
END:STANDARD
END:VTIMEZONE
BEGIN:VEVENT
SUMMARY:Men SP - WJC
DTSTAMP:20180306T193451Z
SEQUENCE:0
UID:267-8-2d4faa662f2f2e4c4c1a0854de40d023@planethanyu.com
ORGANIZER;CN="Hydroblade":forum@planethanyu.com
DESCRIPTION:\n\n	\n\n\n\n	 \n\n\n\n	ISU World Junior Championships 2018
	\n\n	\n\n	Junior Men\n\n	\n\n	Entries\n\n\n\n	 \n\n\n\n	\n		\n			\n				\n
						No.\n				\n				\n					Name\n				\n				\n					Nation\n				\n				\n				
		 \n				\n				\n					 \n				\n			\n			\n				\n					1\n				\n				\n					J
	ames MIN\n				\n				\n					AUS\n				\n				\n					1\n				\n				\n					 \n	
				\n			\n			\n				\n					 \n				\n				\n					Darian KAPTICH\n				\n				\
	n					AUS\n				\n				\n					1\n				\n				\n					S\n				\n			\n			\n				\n	
					2\n				\n				\n					Luc MAIERHOFER\n				\n				\n					AUT\n				\n				\n
						2\n				\n				\n					 \n				\n			\n			\n				\n					3\n				\n				\n			
			Larry LOUPOLOVER\n				\n				\n					AZE\n				\n				\n					3\n				\n				\n
						 \n				\n			\n			\n				\n					4\n				\n				\n					Yakau ZENKO\n				\
	n				\n					BLR\n				\n				\n					4\n				\n				\n					 \n				\n			\n			\n
					\n					5\n				\n				\n					Alexander ZLATKOV\n				\n				\n					BUL\n		
			\n				\n					5\n				\n				\n					 \n				\n			\n			\n				\n					 \n				
	\n				\n					Vassil DIMITROV\n				\n				\n					BUL\n				\n				\n					5\n		
			\n				\n					S\n				\n			\n			\n				\n					6\n				\n				\n					Conrad OR
	ZEL\n				\n				\n					CAN\n				\n				\n					6\n				\n				\n					 \n				\n
				\n			\n				\n					7\n				\n				\n					Joseph PHAN\n				\n				\n					CAN
	\n				\n				\n					6\n				\n				\n					 \n				\n			\n			\n				\n					 \n
					\n				\n					Corey CIRCELLI\n				\n				\n					CAN\n				\n				\n					6\
	n				\n				\n					S\n				\n			\n			\n				\n					 \n				\n				\n					Eric 
	LIU\n				\n				\n					CAN\n				\n				\n					6\n				\n				\n					S\n				\n	
			\n			\n				\n					8\n				\n				\n					Shuai FANG\n				\n				\n					CHN\n
					\n				\n					7\n				\n				\n					 \n				\n			\n			\n				\n					 \n		
			\n				\n					Yuheng LI\n				\n				\n					CHN\n				\n				\n					7\n				\n
					\n					S\n				\n			\n			\n				\n					9\n				\n				\n					Micah TANG\n	
				\n				\n					TPE\n				\n				\n					8\n				\n				\n					 \n				\n			\n	
			\n				\n					10\n				\n				\n					Charles Henry KATANOVIC\n				\n				\n	
					CRO\n				\n				\n					9\n				\n				\n					 \n				\n			\n			\n				\n		
				11\n				\n				\n					Petr KOTLARIK\n				\n				\n					CZE\n				\n				\n	
					10\n				\n				\n					 \n				\n			\n			\n				\n					 \n				\n				\n		
				Matyas BELOHRADSKY\n				\n				\n					CZE\n				\n				\n					10\n				\n		
			\n					S\n				\n			\n			\n				\n					 \n				\n				\n					Radek JAKUBKA\
	n				\n				\n					CZE\n				\n				\n					10\n				\n				\n					S\n				\n			\
	n			\n				\n					 \n				\n				\n					Daniel MRAZEK\n				\n				\n					CZE\
	n				\n				\n					10\n				\n				\n					S\n				\n			\n			\n				\n					12\n	
				\n				\n					Aleksandr SELEVKO\n				\n				\n					EST\n				\n				\n					
	11\n				\n				\n					 \n				\n			\n			\n				\n					 \n				\n				\n					M
	ihhail SELEVKO\n				\n				\n					EST\n				\n				\n					11\n				\n				\n			
			S\n				\n			\n			\n				\n					13\n				\n				\n					Roman GALAY\n				\n		
			\n					FIN\n				\n				\n					12\n				\n				\n					 \n				\n			\n			\n		
			\n					14\n				\n				\n					Luc ECONOMIDES\n				\n				\n					FRA\n				\n
					\n					13\n				\n				\n					 \n				\n			\n			\n				\n					15\n				\n	
				\n					Adam SIAO HIM FA\n				\n				\n					FRA\n				\n				\n					13\n			
		\n				\n					 \n				\n			\n			\n				\n					16\n				\n				\n					Irakli M
	AYSURADZE\n				\n				\n					GEO\n				\n				\n					14\n				\n				\n					 \
	n				\n			\n			\n				\n					 \n				\n				\n					Nika EGADZE\n				\n				\n
						GEO\n				\n				\n					14\n				\n				\n					S\n				\n			\n			\n				\n	
					17\n				\n				\n					Jonathan HESS\n				\n				\n					GER\n				\n				\n
						15\n				\n				\n					 \n				\n			\n			\n				\n					 \n				\n				\n	
					Denis GURDZHI\n				\n				\n					GER\n				\n				\n					15\n				\n				\n
						S\n				\n			\n			\n				\n					 \n				\n				\n					Kai JAGODA\n				\n
					\n					GER\n				\n				\n					15\n				\n				\n					S\n				\n			\n			\n	
				\n					18\n				\n				\n					Luke DIGBY\n				\n				\n					GBR\n				\n			
		\n					16\n				\n				\n					 \n				\n			\n			\n				\n					 \n				\n				
	\n					Josh BROWN\n				\n				\n					GBR\n				\n				\n					16\n				\n				\n
						S\n				\n			\n			\n				\n					19\n				\n				\n					Harrison Jon-Yen W
	ONG\n				\n				\n					HKG\n				\n				\n					17\n				\n				\n					 \n				\
	n			\n			\n				\n					20\n				\n				\n					Alexander BOROVOJ\n				\n				\n
						HUN\n				\n				\n					18\n				\n				\n					 \n				\n			\n			\n				\n
						 \n				\n				\n					Mate BOROCZ\n				\n				\n					HUN\n				\n				\n	
					18\n				\n				\n					S\n				\n			\n			\n				\n					 \n				\n				\n			
			Andras CSERNOCH\n				\n				\n					HUN\n				\n				\n					18\n				\n				\n
						S\n				\n			\n			\n				\n					21\n				\n				\n					Samuel MCALLISTER\
	n				\n				\n					IRL\n				\n				\n					19\n				\n				\n					 \n				\n			
	\n			\n				\n					22\n				\n				\n					David Igor BIRINBERG\n				\n				\n	
					ISR\n				\n				\n					20\n				\n				\n					 \n				\n			\n			\n				\n	
					23\n				\n				\n					Mark GORODNITSKY\n				\n				\n					ISR\n				\n			
		\n					20\n				\n				\n					 \n				\n			\n			\n				\n					24\n				\n				
	\n					Matteo RIZZO\n				\n				\n					ITA\n				\n				\n					21\n				\n				
	\n					 \n				\n			\n			\n				\n					 \n				\n				\n					Gabriele FRANGI
	PANI\n				\n				\n					ITA\n				\n				\n					21\n				\n				\n					S\n				\
	n			\n			\n				\n					 \n				\n				\n					Daniel GRASSL\n				\n				\n				
		ITA\n				\n				\n					21\n				\n				\n					S\n				\n			\n			\n				\n					
	25\n				\n				\n					Sena MIYAKE\n				\n				\n					JPN\n				\n				\n					2
	2\n				\n				\n					 \n				\n			\n			\n				\n					26\n				\n				\n					Mi
	tsuki SUMOTO\n				\n				\n					JPN\n				\n				\n					22\n				\n				\n					
	 \n				\n			\n			\n				\n					 \n				\n				\n					Shun SATO\n				\n				\
	n					JPN\n				\n				\n					22\n				\n				\n					S\n				\n			\n			\n				\n
						 \n				\n				\n					Tatsuya TSUBOI\n				\n				\n					JPN\n				\n				
	\n					22\n				\n				\n					S\n				\n			\n			\n				\n					27\n				\n				\n
						Nikita MANKO\n				\n				\n					KAZ\n				\n				\n					23\n				\n				\n
						 \n				\n			\n			\n				\n					 \n				\n				\n					Artur PANIKHIN\n	
				\n				\n					KAZ\n				\n				\n					23\n				\n				\n					S\n				\n			\n	
			\n				\n					28\n				\n				\n					Kims Georgs PAVLOVS\n				\n				\n					
	LAT\n				\n				\n					24\n				\n				\n					 \n				\n			\n			\n				\n					
	29\n				\n				\n					Kai Xiang CHEW\n				\n				\n					MAS\n				\n				\n			
			25\n				\n				\n					 \n				\n			\n			\n				\n					30\n				\n				\n				
		Donovan CARRILLO\n				\n				\n					MEX\n				\n				\n					26\n				\n				\n
						 \n				\n			\n			\n				\n					31\n				\n				\n					Davide LEWTON BRA
	IN\n				\n				\n					MON\n				\n				\n					27\n				\n				\n					 \n				\n
				\n			\n				\n					32\n				\n				\n					Yamato ROWE\n				\n				\n					PH
	I\n				\n				\n					28\n				\n				\n					 \n				\n			\n			\n				\n					33
	\n				\n				\n					Erik MATYSIAK\n				\n				\n					POL\n				\n				\n					2
	9\n				\n				\n					 \n				\n			\n			\n				\n					 \n				\n				\n					Ry
	szard GURTLER\n				\n				\n					POL\n				\n				\n					29\n				\n				\n				
		S\n				\n			\n			\n				\n					 \n				\n				\n					Kornel WITKOWSKI\n				
	\n				\n					POL\n				\n				\n					29\n				\n				\n					S\n				\n			\n			\
	n				\n					34\n				\n				\n					Young Hyun CHA\n				\n				\n					KOR\n			
		\n				\n					30\n				\n				\n					 \n				\n			\n			\n				\n					35\n				
	\n				\n					Sihyeong LEE\n				\n				\n					KOR\n				\n				\n					30\n				
	\n				\n					 \n				\n			\n			\n				\n					 \n				\n				\n					Geon Hyeo
	ng AN\n				\n				\n					KOR\n				\n				\n					30\n				\n				\n					S\n				
	\n			\n			\n				\n					 \n				\n				\n					Junhwan CHA\n				\n				\n					
	KOR\n				\n				\n					30\n				\n				\n					S\n				\n			\n			\n				\n					3
	6\n				\n				\n					Artur DANIELIAN\n				\n				\n					RUS\n				\n				\n			
			31\n				\n				\n					 \n				\n			\n			\n				\n					37\n				\n				\n				
		Alexey EROKHOV\n				\n				\n					RUS\n				\n				\n					31\n				\n				\n		
				 \n				\n			\n			\n				\n					38\n				\n				\n					Roman SAVOSIN\n				
	\n				\n					RUS\n				\n				\n					31\n				\n				\n					 \n				\n			\n			
	\n				\n					 \n				\n				\n					Makar IGNATOV\n				\n				\n					RUS\n			
		\n				\n					31\n				\n				\n					S\n				\n			\n			\n				\n					 \n				\
	n				\n					Egor MURASHOV\n				\n				\n					RUS\n				\n				\n					31\n				
	\n				\n					S\n				\n			\n			\n				\n					 \n				\n				\n					Egor RUKHI
	N\n				\n				\n					RUS\n				\n				\n					31\n				\n				\n					S\n				\n		
		\n			\n				\n					39\n				\n				\n					Chadwick WANG\n				\n				\n					SG
	P\n				\n				\n					32\n				\n				\n					 \n				\n			\n			\n				\n					40
	\n				\n				\n					Aleix GABARA\n				\n				\n					ESP\n				\n				\n					33
	\n				\n				\n					 \n				\n			\n			\n				\n					41\n				\n				\n					Gab
	riel FOLKESSON\n				\n				\n					SWE\n				\n				\n					34\n				\n				\n			
			 \n				\n			\n			\n				\n					 \n				\n				\n					Nikolaj MAJOROV\n			
		\n				\n					SWE\n				\n				\n					34\n				\n				\n					S\n				\n			\n			
	\n				\n					 \n				\n				\n					Andreas NORDEBÄCK\n				\n				\n					SWE
	\n				\n				\n					34\n				\n				\n					S\n				\n			\n			\n				\n					42\n
					\n				\n					Nurullah SAHAKA\n				\n				\n					SUI\n				\n				\n					3
	5\n				\n				\n					 \n				\n			\n			\n				\n					 \n				\n				\n					To
	mas Llorenc GUARINO SABATE\n				\n				\n					SUI\n				\n				\n					35\n			
		\n				\n					S\n				\n			\n			\n				\n					43\n				\n				\n					Micah Kai
	 LYNETTE\n				\n				\n					THA\n				\n				\n					36\n				\n				\n					 \n
					\n			\n			\n				\n					44\n				\n				\n					Basar OKTAR\n				\n				\n	
					TUR\n				\n				\n					37\n				\n				\n					 \n				\n			\n			\n				\n	
					45\n				\n				\n					Ivan PAVLOV\n				\n				\n					UKR\n				\n				\n		
				38\n				\n				\n					 \n				\n			\n			\n				\n					46\n				\n				\n			
			Ivan SHMURATKO\n				\n				\n					UKR\n				\n				\n					38\n				\n				\n	
					 \n				\n			\n			\n				\n					 \n				\n				\n					Yan TKALICH\n				\
	n				\n					UKR\n				\n				\n					38\n				\n				\n					S\n				\n			\n			\n
					\n					47\n				\n				\n					Tomoki HIWATASHI\n				\n				\n					USA\n		
			\n				\n					39\n				\n				\n					 \n				\n			\n			\n				\n					48\n			
		\n				\n					Alexei KRASNOZHON\n				\n				\n					USA\n				\n				\n					39
	\n				\n				\n					 \n				\n			\n			\n				\n					49\n				\n				\n					Cam
	den PULKINEN\n				\n				\n					USA\n				\n				\n					39\n				\n				\n					
	 \n				\n			\n			\n				\n					 \n				\n				\n					Ryan DUNK\n				\n				\
	n					USA\n				\n				\n					39\n				\n				\n					S\n				\n			\n		\n	\n\n\n
	\n	 \n\n
DTSTART:20180308T091500Z
DTEND:20180308T164500Z
END:VEVENT
END:VCALENDAR
