BEGIN:VCALENDAR
VERSION:2.0
PRODID:-//InvisionCommunity Events 4.7.23//EN
METHOD:PUBLISH
CALSCALE:GREGORIAN
REFRESH-INTERVAL:PT15M
X-PUBLISHED-TTL:PT15M
X-WR-CALNAME:TV Programs
NAME:TV Programs
BEGIN:VTIMEZONE
TZID:Europe/London
TZURL:http://tzurl.org/zoneinfo/Europe/London
X-LIC-LOCATION:Europe/London
BEGIN:DAYLIGHT
TZOFFSETFROM:+0000
TZOFFSETTO:+0100
TZNAME:BST
DTSTART:20180325T020000Z
RRULE:FREQ=YEARLY;BYMONTH=3;BYDAY=-1SU
END:DAYLIGHT
BEGIN:STANDARD
TZOFFSETFROM:+0100
TZOFFSETTO:+0000
TZNAME:GMT
DTSTART:20181028T020000Z
RRULE:FREQ=YEARLY;BYMONTH=10;BYDAY=-1SU
END:STANDARD
END:VTIMEZONE
BEGIN:VEVENT
SUMMARY:[Tv Program]AERA behind the scenes (and others)
DTSTAMP:20180302T161756Z
SEQUENCE:0
UID:264-5-2d4faa662f2f2e4c4c1a0854de40d023@planethanyu.com
ORGANIZER;CN="Hydroblade":forum@planethanyu.com
DESCRIPTION:\n\n	 \n\n\n\n	TV Broadcast of 「AERA behind the scenes (a
	nd others)」\n\n\n\n	[This is a TV Broadcast by TV Asahi. The discussion 
	thread for this broadcast is here]\n\n\n\n	\n\n\n\n	Source:\n\n\n\n	http:/
	/www.tv-asahi.co.jp/sports-scoop/\n\n
DTSTART:20180305T100000Z
DTEND:20180305T124800Z
ATTENDEE;CN="souyouki";CUTYPE=INDIVIDUAL;PARTSTAT=ACCEPTED:f
	orum@planethanyu.com
ATTENDEE;CN="yuzu.fairy";CUTYPE=INDIVIDUAL;PARTSTAT=ACCEPTED
	:forum@planethanyu.com
END:VEVENT
END:VCALENDAR
