BEGIN:VCALENDAR
VERSION:2.0
PRODID:-//InvisionCommunity Events 4.7.23//EN
METHOD:PUBLISH
CALSCALE:GREGORIAN
REFRESH-INTERVAL:PT15M
X-PUBLISHED-TTL:PT15M
X-WR-CALNAME:ISU Championships
NAME:ISU Championships
BEGIN:VTIMEZONE
TZID:Europe/London
TZURL:http://tzurl.org/zoneinfo/Europe/London
X-LIC-LOCATION:Europe/London
BEGIN:DAYLIGHT
TZOFFSETFROM:+0000
TZOFFSETTO:+0100
TZNAME:BST
DTSTART:20180325T020000Z
RRULE:FREQ=YEARLY;BYMONTH=3;BYDAY=-1SU
END:DAYLIGHT
BEGIN:STANDARD
TZOFFSETFROM:+0100
TZOFFSETTO:+0000
TZNAME:GMT
DTSTART:20181028T020000Z
RRULE:FREQ=YEARLY;BYMONTH=10;BYDAY=-1SU
END:STANDARD
END:VTIMEZONE
BEGIN:VEVENT
SUMMARY:World Junior Championships
DTSTAMP:20180228T234119Z
SEQUENCE:0
UID:263-8-2d4faa662f2f2e4c4c1a0854de40d023@planethanyu.com
ORGANIZER;CN="Yatagarasu":forum@planethanyu.com
DESCRIPTION:\n\n	ISU World Junior Championships 2018\n\n\n\n	World Junio
	r Championships\n\n\n\n	Sofia / BUL\n\n\n\n	05.03.2018 - 11.03.2018\n\
	n
DTSTART:20180306T230000Z
DTEND:20180310T230000Z
END:VEVENT
END:VCALENDAR
