BEGIN:VCALENDAR
VERSION:2.0
PRODID:-//InvisionCommunity Events 4.7.23//EN
METHOD:PUBLISH
CALSCALE:GREGORIAN
REFRESH-INTERVAL:PT15M
X-PUBLISHED-TTL:PT15M
X-WR-CALNAME:ISU Championships
NAME:ISU Championships
BEGIN:VTIMEZONE
TZID:Europe/London
TZURL:http://tzurl.org/zoneinfo/Europe/London
X-LIC-LOCATION:Europe/London
BEGIN:DAYLIGHT
TZOFFSETFROM:+0000
TZOFFSETTO:+0100
TZNAME:BST
DTSTART:20180325T020000Z
RRULE:FREQ=YEARLY;BYMONTH=3;BYDAY=-1SU
END:DAYLIGHT
BEGIN:STANDARD
TZOFFSETFROM:+0100
TZOFFSETTO:+0000
TZNAME:GMT
DTSTART:20181028T020000Z
RRULE:FREQ=YEARLY;BYMONTH=10;BYDAY=-1SU
END:STANDARD
END:VTIMEZONE
BEGIN:VEVENT
SUMMARY:Ice Dance SD - European Championships
DTSTAMP:20180105T204505Z
SEQUENCE:0
UID:227-8-2d4faa662f2f2e4c4c1a0854de40d023@planethanyu.com
ORGANIZER;CN="Hydroblade":forum@planethanyu.com
DESCRIPTION:\n\n	ISU European Championships 2018\nIce Dance\n\nEntries\n
	\n\n\n	 \n\n\n\n	\n\n\n					No.\n				\n				\n					Name\n				\n				\n					
	Nation\n				\n				\n					 \n				\n				\n					 \n				\n			\n\n\n					1\n	
				\n				\n					Tina GARABEDIAN / Simon PROULX SENECAL\n				\n				\n					A
	RM\n				\n				\n					1\n				\n				\n					 \n				\n			\n\n\n					2\n				\n
					\n					Viktoria KAVALIOVA / Yurii BIELIAIEV\n				\n				\n					BLR\n			
		\n				\n					2\n				\n				\n					 \n				\n			\n\n\n					 \n				\n				\n
						Anna KUBLIKOVA / Yuri HULITSKI\n				\n				\n					BLR\n				\n				\n			
			2\n				\n				\n					S\n				\n			\n\n\n					3\n				\n				\n					Teodora M
	ARKOVA / Simon DAZE\n				\n				\n					BUL\n				\n				\n					3\n				\n				\
	n					 \n				\n			\n\n\n					 \n				\n				\n					Mina ZDRAVKOVA / Christ
	opher M. DAVIS\n				\n				\n					BUL\n				\n				\n					3\n				\n				\n				
		S\n				\n			\n\n\n					4\n				\n				\n					Cortney MANSOUROVA / Michal CE
	SKA\n				\n				\n					CZE\n				\n				\n					4\n				\n				\n					 \n				\n
				\n\n\n					 \n				\n				\n					Nicole KUZMICHOVA / Alexandr SINICYN\n	
				\n				\n					CZE\n				\n				\n					4\n				\n				\n					S\n				\n			\n\n
	\n					5\n				\n				\n					Laurence FOURNIER BEAUDRY / Nikolaj SORENSEN\n	
				\n				\n					DEN\n				\n				\n					5\n				\n				\n					 \n				\n			\n\
	n\n					6\n				\n				\n					Katerina BUNINA / German FROLOV\n				\n				\n	
					EST\n				\n				\n					6\n				\n				\n					 \n				\n			\n\n\n					 \n
					\n				\n					Viktoria SEMENJUK / Artur GRUZDEV\n				\n				\n					EST\n
					\n				\n					6\n				\n				\n					S\n				\n			\n\n\n					7\n				\n				\
	n					Cecilia TÖRN / Jussiville PARTANEN\n				\n				\n					FIN\n				\n			
		\n					7\n				\n				\n					 \n				\n			\n\n\n					 \n				\n				\n					J
	uulia TURKKILA / Matthias VERSLUIS\n				\n				\n					FIN\n				\n				\n				
		7\n				\n				\n					S\n				\n			\n\n\n					8\n				\n				\n					Angelique 
	ABACHKINA / Louis THAURON\n				\n				\n					FRA\n				\n				\n					8\n				\
	n				\n					 \n				\n			\n\n\n					9\n				\n				\n					Marie-Jade LAURIAU
	LT / Romain LE GAC\n				\n				\n					FRA\n				\n				\n					8\n				\n				\n
						 \n				\n			\n\n\n					10\n				\n				\n					Gabriella PAPADAKIS / Gu
	illaume CIZERON\n				\n				\n					FRA\n				\n				\n					8\n				\n				\n			
			 \n				\n			\n\n\n					 \n				\n				\n					Lorenza ALESSANDRINI / Pier
	re SOUQUET\n				\n				\n					FRA\n				\n				\n					8\n				\n				\n					S\n
					\n			\n\n\n					11\n				\n				\n					Kavita LORENZ / Joti POLIZOAKIS\n
					\n				\n					GER\n				\n				\n					9\n				\n				\n					 \n				\n			\n
	\n\n					 \n				\n				\n					Shari KOCH / Christian NÜCHTERN\n				\n				
	\n					GER\n				\n				\n					9\n				\n				\n					S\n				\n			\n\n\n					 
	\n				\n				\n					Katharina MÜLLER / Tim DIECK\n				\n				\n					GER\n		
			\n				\n					9\n				\n				\n					S\n				\n			\n\n\n					 \n				\n				\n
						Jennifer URBAN / Benjamin STEFFAN\n				\n				\n					GER\n				\n				\n
						9\n				\n				\n					S\n				\n			\n\n\n					12\n				\n				\n					Penny
	 COOMES / Nicholas BUCKLAND\n				\n				\n					GBR\n				\n				\n					10\n		
			\n				\n					 \n				\n			\n\n\n					 \n				\n				\n					Lilah FEAR / L
	ewis GIBSON\n				\n				\n					GBR\n				\n				\n					10\n				\n				\n					S
	\n				\n			\n\n\n					13\n				\n				\n					Anna YANOVSKAYA / Adam LUKACS\n
					\n				\n					HUN\n				\n				\n					11\n				\n				\n					 \n				\n			\
	n\n\n					14\n				\n				\n					Adel TANKOVA / Ronald ZILBERBERG\n				\n			
		\n					ISR\n				\n				\n					12\n				\n				\n					 \n				\n			\n\n\n				
		15\n				\n				\n					Anna CAPPELLINI / Luca LANOTTE\n				\n				\n					ITA
	\n				\n				\n					13\n				\n				\n					 \n				\n			\n\n\n					16\n				\n
					\n					Charlene GUIGNARD / Marco FABBRI\n				\n				\n					ITA\n				\n	
				\n					13\n				\n				\n					 \n				\n			\n\n\n					17\n				\n				\n			
			Jasmine TESSARI / Francesco FIORETTI\n				\n				\n					ITA\n				\n				\n
						13\n				\n				\n					 \n				\n			\n\n\n					 \n				\n				\n					Car
	olina MOSCHENI / Andrea FABBRI\n				\n				\n					ITA\n				\n				\n					13\
	n				\n				\n					S\n				\n			\n\n\n					18\n				\n				\n					Aurelija IPO
	LITO / Malcolm JONES\n				\n				\n					LAT\n				\n				\n					14\n				\n			
		\n					 \n				\n			\n\n\n					19\n				\n				\n					Allison REED / Sauliu
	s AMBRULEVICIUS\n				\n				\n					LTU\n				\n				\n					15\n				\n				\n		
				 \n				\n			\n\n\n					 \n				\n				\n					Guoste DAMULEVICIUTE / Dei
	vidas KIZALA\n				\n				\n					LTU\n				\n				\n					15\n				\n				\n					
	S\n				\n			\n\n\n					20\n				\n				\n					Natalia KALISZEK / Maksym SPOD
	YRIEV\n				\n				\n					POL\n				\n				\n					16\n				\n				\n					 \n			
		\n			\n\n\n					21\n				\n				\n					Justyna PLUTOWSKA / Jeremie FLEMIN\n
					\n				\n					POL\n				\n				\n					16\n				\n				\n					 \n				\n			\
	n\n\n					22\n				\n				\n					Ekaterina BOBROVA / Dmitri SOLOVIEV\n				\n
					\n					RUS\n				\n				\n					17\n				\n				\n					 \n				\n			\n\n\n	
					23\n				\n				\n					Alexandra STEPANOVA / Ivan BUKIN\n				\n				\n			
			RUS\n				\n				\n					17\n				\n				\n					 \n				\n			\n\n\n					24\n	
				\n				\n					Tiffani ZAGORSKI / Jonathan GUERREIRO\n				\n				\n					RU
	S\n				\n				\n					17\n				\n				\n					 \n				\n			\n\n\n					 \n				\
	n				\n					Sofia EVDOKIMOVA / Egor BAZIN\n				\n				\n					RUS\n				\n			
		\n					17\n				\n				\n					S\n				\n			\n\n\n					 \n				\n				\n					B
	etina POPOVA / Sergey MOZGOV\n				\n				\n					RUS\n				\n				\n					17\n	
				\n				\n					S\n				\n			\n\n\n					25\n				\n				\n					Lucie MYSLIVEC
	KOVA / Lukas CSOLLEY\n				\n				\n					SVK\n				\n				\n					18\n				\n			
		\n					 \n				\n			\n\n\n					26\n				\n				\n					Sara HURTADO / Kirill
	 KHALIAVIN\n				\n				\n					ESP\n				\n				\n					19\n				\n				\n					 
	\n				\n			\n\n\n					 \n				\n				\n					Olivia SMART / Adrian DIAZ\n			
		\n				\n					ESP\n				\n				\n					19\n				\n				\n					S\n				\n			\n\n\
	n					27\n				\n				\n					Malin MALMBERG / Thomas NORDAHL\n				\n				\n		
				SWE\n				\n				\n					20\n				\n				\n					 \n				\n			\n\n\n					28\n
					\n				\n					Victoria MANNI / Carlo RÖTHLISBERGER\n				\n				\n					S
	UI\n				\n				\n					21\n				\n				\n					 \n				\n			\n\n\n					29\n				
	\n				\n					Alisa AGAFONOVA / Alper UCAR\n				\n				\n					TUR\n				\n			
		\n					22\n				\n				\n					 \n				\n			\n\n\n					30\n				\n				\n					
	Alexandra NAZAROVA / Maxim NIKITIN\n				\n				\n					UKR\n				\n				\n				
		23\n				\n				\n					 \n				\n			\n\n\n					31\n				\n				\n					Darya P
	OPOVA / Volodymyr BYELIKOV\n				\n				\n					UKR\n				\n				\n					23\n			
		\n				\n					 \n				\n			\n\n\n					 \n				\n				\n					Yuliia ZHATA / 
	Yan LUKOUSKI\n				\n				\n					UKR\n				\n				\n					23\n				\n				\n					
	S\n				\n			\n\n\n\n\n	 \n\n
DTSTART:20180119T091000Z
DTEND:20180119T135200Z
END:VEVENT
END:VCALENDAR
