BEGIN:VCALENDAR
VERSION:2.0
PRODID:-//InvisionCommunity Events 4.7.23//EN
METHOD:PUBLISH
CALSCALE:GREGORIAN
REFRESH-INTERVAL:PT15M
X-PUBLISHED-TTL:PT15M
X-WR-CALNAME:Grand Prix Series
NAME:Grand Prix Series
BEGIN:VTIMEZONE
TZID:Europe/London
TZURL:http://tzurl.org/zoneinfo/Europe/London
X-LIC-LOCATION:Europe/London
BEGIN:DAYLIGHT
TZOFFSETFROM:+0000
TZOFFSETTO:+0100
TZNAME:BST
DTSTART:20170326T020000Z
RRULE:FREQ=YEARLY;BYMONTH=3;BYDAY=-1SU
END:DAYLIGHT
BEGIN:STANDARD
TZOFFSETFROM:+0100
TZOFFSETTO:+0000
TZNAME:GMT
DTSTART:20171029T020000Z
RRULE:FREQ=YEARLY;BYMONTH=10;BYDAY=-1SU
END:STANDARD
END:VTIMEZONE
BEGIN:VEVENT
SUMMARY:Pairs SP - JGPF
DTSTAMP:20171130T204752Z
SEQUENCE:0
UID:200-2-2d4faa662f2f2e4c4c1a0854de40d023@planethanyu.com
ORGANIZER;CN="Hydroblade":forum@planethanyu.com
DESCRIPTION:\n\n	\n\n\n	 \n\n\n\n	Entries\n\n\n\n	 \n\n\n\n	JUNIOR PAI
	RS\n\n\n\n	(In order of qualification)\n\n\n\n\n\n				\n					1\n				\n			\
	n			\n				\n					Daria PAVLIUCHENKO / Denis KHODYKIN\n				\n			\n			\n				
	\n					RUS\n				\n			\n			\n				\n					 \n				\n			\n		\n\n\n				\n					2
	\n				\n			\n			\n				\n					Apollinariia PANFILOVA / Dmitry RYLOV\n				\n
				\n			\n				\n					RUS\n				\n			\n			\n				\n					 \n				\n			\n		\n\n
	\n				\n					3\n				\n			\n			\n				\n					Ekaterina ALEXANDROVSKAYA / Har
	ley WINDSOR\n				\n			\n			\n				\n					AUS\n				\n			\n			\n				\n					 
	\n				\n			\n		\n\n\n				\n					4\n				\n			\n			\n				\n					Anastasia PO
	LUIANOVA / Dmitry SOPOT\n				\n			\n			\n				\n					RUS\n				\n			\n			\n	
				\n					 \n				\n			\n		\n\n\n				\n					5\n				\n			\n			\n				\n					
	Aleksandra BOIKOVA / Dmitrii KOZLOVSKII\n				\n			\n			\n				\n					RUS\n	
				\n			\n			\n				\n					 \n				\n			\n		\n\n\n				\n					6\n				\n			\n
				\n				\n					Yumeng GAO / Zhong XIE\n				\n			\n			\n				\n					CHN\n		
			\n			\n			\n				\n					 \n				\n			\n		\n\n\n	Substitutes\n\n\n\n\n\n		
			\n					7\n				\n			\n			\n				\n					Polina KOSTIUKOVICH / Dmitrii IALIN
	\n				\n			\n			\n				\n					RUS\n				\n			\n			\n				\n					 \n				\n			
	\n		\n\n\n				\n					8\n				\n			\n			\n				\n					Evelyn WALSH / Trennt M
	ICHAUD\n				\n			\n			\n				\n					CAN\n				\n			\n			\n				\n					 \n			
		\n			\n		\n\n\n				\n					9\n				\n			\n			\n				\n					Laiken LOCKLEY / 
	Keenan PROCHNOW\n				\n			\n			\n				\n					USA\n				\n			\n		\n\n
DTSTART:20171207T051000Z
DTEND:20171207T060000Z
END:VEVENT
END:VCALENDAR
