BEGIN:VCALENDAR
VERSION:2.0
PRODID:-//InvisionCommunity Events 4.7.23//EN
METHOD:PUBLISH
CALSCALE:GREGORIAN
REFRESH-INTERVAL:PT15M
X-PUBLISHED-TTL:PT15M
X-WR-CALNAME:Other appearances
NAME:Other appearances
BEGIN:VTIMEZONE
TZID:Europe/London
TZURL:http://tzurl.org/zoneinfo/Europe/London
X-LIC-LOCATION:Europe/London
BEGIN:DAYLIGHT
TZOFFSETFROM:+0000
TZOFFSETTO:+0100
TZNAME:BST
DTSTART:20250330T020000Z
RRULE:FREQ=YEARLY;BYMONTH=3;BYDAY=-1SU
END:DAYLIGHT
BEGIN:STANDARD
TZOFFSETFROM:+0100
TZOFFSETTO:+0000
TZNAME:GMT
DTSTART:20251026T020000Z
RRULE:FREQ=YEARLY;BYMONTH=10;BYDAY=-1SU
END:STANDARD
END:VTIMEZONE
BEGIN:VEVENT
SUMMARY:YH on「野村萬斎のラジオで福袋」 ⊳ NHK Radio 1
DTSTAMP:20250404T010950Z
SEQUENCE:0
UID:1714-1-2d4faa662f2f2e4c4c1a0854de40d023@planethanyu.com
ORGANIZER;CN="Elly":forum@planethanyu.com
DESCRIPTION:\n	\n		\n			 More information: https://www.nhk.jp/p/mansai-f
	uku/rs/1K5J894M9V/\n		\n	\n\n
DTSTART:20250407T110500Z
DTEND:20250407T115500Z
END:VEVENT
END:VCALENDAR
