BEGIN:VCALENDAR
VERSION:2.0
PRODID:-//InvisionCommunity Events 4.7.23//EN
METHOD:PUBLISH
CALSCALE:GREGORIAN
REFRESH-INTERVAL:PT15M
X-PUBLISHED-TTL:PT15M
X-WR-CALNAME:Solo Ice Shows
NAME:Solo Ice Shows
BEGIN:VTIMEZONE
TZID:Europe/London
TZURL:http://tzurl.org/zoneinfo/Europe/London
X-LIC-LOCATION:Europe/London
BEGIN:DAYLIGHT
TZOFFSETFROM:+0000
TZOFFSETTO:+0100
TZNAME:BST
DTSTART:20250330T020000Z
RRULE:FREQ=YEARLY;BYMONTH=3;BYDAY=-1SU
END:DAYLIGHT
BEGIN:STANDARD
TZOFFSETFROM:+0100
TZOFFSETTO:+0000
TZNAME:GMT
DTSTART:20251026T020000Z
RRULE:FREQ=YEARLY;BYMONTH=10;BYDAY=-1SU
END:STANDARD
END:VTIMEZONE
BEGIN:VEVENT
SUMMARY:Yuzuru Hanyu ICE STORY 3rd 'Echoes of Life' TOUR - Chiba Day
	 2
DTSTAMP:20250122T191031Z
SEQUENCE:0
UID:1693-12-2d4faa662f2f2e4c4c1a0854de40d023@planethanyu.com
ORGANIZER;CN="Elly":forum@planethanyu.com
DESCRIPTION:\n	\n		\n			\n				\n					\n						\n							Official Website: 
	https://echoesoflife.jp/schedule.html\n						\n\n						\n							 Livestrea
	m: https://www.tv-asahi.co.jp/ch/contents/sports/0614/\n						\n\n						\n
								BeyondLive: https://beyondlive.com/notice/318\n						\n					\n				\
	n			\n		\n	\n\n
DTSTART:20250209T070000Z
END:VEVENT
END:VCALENDAR
