BEGIN:VCALENDAR
VERSION:2.0
PRODID:-//InvisionCommunity Events 4.7.23//EN
METHOD:PUBLISH
CALSCALE:GREGORIAN
REFRESH-INTERVAL:PT15M
X-PUBLISHED-TTL:PT15M
X-WR-CALNAME:Junior Grand Prix 
NAME:Junior Grand Prix 
BEGIN:VTIMEZONE
TZID:Europe/London
TZURL:http://tzurl.org/zoneinfo/Europe/London
X-LIC-LOCATION:Europe/London
BEGIN:DAYLIGHT
TZOFFSETFROM:+0000
TZOFFSETTO:+0100
TZNAME:BST
DTSTART:20170326T020000Z
RRULE:FREQ=YEARLY;BYMONTH=3;BYDAY=-1SU
END:DAYLIGHT
BEGIN:STANDARD
TZOFFSETFROM:+0100
TZOFFSETTO:+0000
TZNAME:GMT
DTSTART:20171029T020000Z
RRULE:FREQ=YEARLY;BYMONTH=10;BYDAY=-1SU
END:STANDARD
END:VTIMEZONE
BEGIN:VEVENT
SUMMARY:Ladies FS - JGP Minsk 2017
DTSTAMP:20170906T223719Z
SEQUENCE:0
UID:160-6-2d4faa662f2f2e4c4c1a0854de40d023@planethanyu.com
ORGANIZER;CN="Hydroblade":forum@planethanyu.com
DESCRIPTION:\n\n	\n\n\n	ISU JGP Minsk Arena Cup 2017\nJunior Ladies\n\n\
	n\n	 \n\n\n\n\n\n				No.\n			\n			\n				Name\n			\n			\n				Nation\n			\n
				\n				 \n			\n			\n				 \n			\n		\n\n\n				1\n			\n			\n				Lucy Sori
	 YUN\n			\n			\n				AUS\n			\n			\n				1\n			\n			\n				 \n			\n		\n\n\n	
				 \n			\n			\n				Amelia Scarlett JACKSON\n			\n			\n				AUS\n			\n			\
	n				1\n			\n			\n				S\n			\n		\n\n\n				 \n			\n			\n				Amelia SADLER\
	n			\n			\n				AUS\n			\n			\n				1\n			\n			\n				S\n			\n		\n\n\n				2\n
				\n			\n				Morgan FLOOD\n			\n			\n				AZE\n			\n			\n				2\n			\n			\n
					 \n			\n		\n\n\n				3\n			\n			\n				Aliaksandra CHEPELEVA\n			\n			\
	n				BLR\n			\n			\n				3\n			\n			\n				 \n			\n		\n\n\n				4\n			\n			\
	n				Lizaveta MALINOUSKAYA\n			\n			\n				BLR\n			\n			\n				3\n			\n			\n
					 \n			\n		\n\n\n				5\n			\n			\n				Hanna PAROSHYNA\n			\n			\n				B
	LR\n			\n			\n				3\n			\n			\n				 \n			\n		\n\n\n				 \n			\n			\n				
	Lizaveta KHLYPAUKA\n			\n			\n				BLR\n			\n			\n				3\n			\n			\n				S\n	
			\n		\n\n\n				 \n			\n			\n				Maryia SALDAKAYEVA\n			\n			\n				BLR\n	
			\n			\n				3\n			\n			\n				S\n			\n		\n\n\n				6\n			\n			\n				Alexand
	ra FEIGIN\n			\n			\n				BUL\n			\n			\n				4\n			\n			\n				 \n			\n		\n
	\n\n				 \n			\n			\n				Presiyana DIMITROVA\n			\n			\n				BUL\n			\n			
	\n				4\n			\n			\n				S\n			\n		\n\n\n				 \n			\n			\n				Kristina GRIG
	OROVA\n			\n			\n				BUL\n			\n			\n				4\n			\n			\n				S\n			\n		\n\n\n	
				 \n			\n			\n				Eliza PANCHEVA\n			\n			\n				BUL\n			\n			\n				4\n	
			\n			\n				S\n			\n		\n\n\n				7\n			\n			\n				Yixuan ZHANG\n			\n			\n
					CHN\n			\n			\n				5\n			\n			\n				 \n			\n		\n\n\n				8\n			\n			\n
					Dahyun KO\n			\n			\n				CZE\n			\n			\n				6\n			\n			\n				 \n			\n
			\n\n\n				 \n			\n			\n				Denisa CIMLOVA\n			\n			\n				CZE\n			\n			\
	n				6\n			\n			\n				S\n			\n		\n\n\n				 \n			\n			\n				Katerina FRICO
	VA\n			\n			\n				CZE\n			\n			\n				6\n			\n			\n				S\n			\n		\n\n\n				
	 \n			\n			\n				Michaela-Lucie HANZLIKOVA\n			\n			\n				CZE\n			\n			\n
					6\n			\n			\n				S\n			\n		\n\n\n				 \n			\n			\n				Elisabeth HARSH
	\n			\n			\n				CZE\n			\n			\n				6\n			\n			\n				S\n			\n		\n\n\n				 
	\n			\n			\n				Aneta JANICZKOVA\n			\n			\n				CZE\n			\n			\n				6\n			\
	n			\n				S\n			\n		\n\n\n				 \n			\n			\n				Natalie KRATENOVA\n			\n		
		\n				CZE\n			\n			\n				6\n			\n			\n				S\n			\n		\n\n\n				 \n			\n		
		\n				Ivana KRATOCHVILOVA\n			\n			\n				CZE\n			\n			\n				6\n			\n			\n
					S\n			\n		\n\n\n				 \n			\n			\n				Nikola RYCHTARIKOVA\n			\n			\n	
				CZE\n			\n			\n				6\n			\n			\n				S\n			\n		\n\n\n				 \n			\n			\n	
				Klara STEPANOVA\n			\n			\n				CZE\n			\n			\n				6\n			\n			\n				S\n	
			\n		\n\n\n				9\n			\n			\n				Josephine KAERSGAARD\n			\n			\n				DEN\n
				\n			\n				7\n			\n			\n				 \n			\n		\n\n\n				 \n			\n			\n				Jane
	 ISKOV\n			\n			\n				DEN\n			\n			\n				7\n			\n			\n				S\n			\n		\n\n\n
					10\n			\n			\n				Kristina SHKULETA-GROMOVA\n			\n			\n				EST\n			\n	
			\n				8\n			\n			\n				 \n			\n		\n\n\n				 \n			\n			\n				Nastasya E
	REMINA\n			\n			\n				EST\n			\n			\n				8\n			\n			\n				S\n			\n		\n\n\n
					 \n			\n			\n				Calista KRASS\n			\n			\n				EST\n			\n			\n				8\n	
			\n			\n				S\n			\n		\n\n\n				 \n			\n			\n				Annely VAHI\n			\n			\n
					EST\n			\n			\n				8\n			\n			\n				S\n			\n		\n\n\n				11\n			\n			\n
					Linnea CEDER\n			\n			\n				FIN\n			\n			\n				9\n			\n			\n				 \n		
		\n		\n\n\n				 \n			\n			\n				Viveca LINDFORS\n			\n			\n				FIN\n			\n
				\n				9\n			\n			\n				S\n			\n		\n\n\n				 \n			\n			\n				Emmi PELTO
	NEN\n			\n			\n				FIN\n			\n			\n				9\n			\n			\n				S\n			\n		\n\n\n			
		 \n			\n			\n				Vera STOLT\n			\n			\n				FIN\n			\n			\n				9\n			\n		
		\n				S\n			\n		\n\n\n				 \n			\n			\n				Sofia SULA\n			\n			\n				FIN
	\n			\n			\n				9\n			\n			\n				S\n			\n		\n\n\n				12\n			\n			\n				Mar
	iami MESHVELIANI\n			\n			\n				GEO\n			\n			\n				10\n			\n			\n				 \n	
			\n		\n\n\n				13\n			\n			\n				Ann-Christin MAROLD\n			\n			\n				GER\n
				\n			\n				11\n			\n			\n				 \n			\n		\n\n\n				 \n			\n			\n				Lut
	ricia BOCK\n			\n			\n				GER\n			\n			\n				11\n			\n			\n				S\n			\n		\
	n\n\n				 \n			\n			\n				Lea Johanna DASTICH\n			\n			\n				GER\n			\n		
		\n				11\n			\n			\n				S\n			\n		\n\n\n				 \n			\n			\n				Tina HELLEK
	EN\n			\n			\n				GER\n			\n			\n				11\n			\n			\n				S\n			\n		\n\n\n			
		 \n			\n			\n				Dora HUS\n			\n			\n				GER\n			\n			\n				11\n			\n			
	\n				S\n			\n		\n\n\n				 \n			\n			\n				Kristina ISAEV\n			\n			\n				
	GER\n			\n			\n				11\n			\n			\n				S\n			\n		\n\n\n				 \n			\n			\n			
		Alissa SCHEIDT\n			\n			\n				GER\n			\n			\n				11\n			\n			\n				S\n			
	\n		\n\n\n				14\n			\n			\n				Genevieve SOMERVILLE\n			\n			\n				GBR\n	
			\n			\n				12\n			\n			\n				 \n			\n		\n\n\n				 \n			\n			\n				Anna
	 LITVINENKO\n			\n			\n				GBR\n			\n			\n				12\n			\n			\n				S\n			\n		
	\n\n\n				 \n			\n			\n				Victoria MCMAHON\n			\n			\n				GBR\n			\n			\
	n				12\n			\n			\n				S\n			\n		\n\n\n				 \n			\n			\n				Kristen SPOUR
	S\n			\n			\n				GBR\n			\n			\n				12\n			\n			\n				S\n			\n		\n\n\n				
	 \n			\n			\n				Anastasia VAIPAN-LAW\n			\n			\n				GBR\n			\n			\n				1
	2\n			\n			\n				S\n			\n		\n\n\n				15\n			\n			\n				Cheuk Ka Kahlen CHE
	UNG\n			\n			\n				HKG\n			\n			\n				13\n			\n			\n				 \n			\n		\n\n\n	
				16\n			\n			\n				Lucrezia BECCARI\n			\n			\n				ITA\n			\n			\n				14
	\n			\n			\n				 \n			\n		\n\n\n				17\n			\n			\n				Nana ARAKI\n			\n		
		\n				JPN\n			\n			\n				15\n			\n			\n				 \n			\n		\n\n\n				18\n			\n
				\n				Riko TAKINO\n			\n			\n				JPN\n			\n			\n				15\n			\n			\n				
	 \n			\n		\n\n\n				 \n			\n			\n				Moa IWANO\n			\n			\n				JPN\n			\n
				\n				15\n			\n			\n				S\n			\n		\n\n\n				 \n			\n			\n				Rino KASA
	KAKE\n			\n			\n				JPN\n			\n			\n				15\n			\n			\n				S\n			\n		\n\n\n	
				 \n			\n			\n				Rika KIHIRA\n			\n			\n				JPN\n			\n			\n				15\n			
	\n			\n				S\n			\n		\n\n\n				 \n			\n			\n				Akari MATSUBARA\n			\n			
	\n				JPN\n			\n			\n				15\n			\n			\n				S\n			\n		\n\n\n				 \n			\n		
		\n				Akari MATSUOKA\n			\n			\n				JPN\n			\n			\n				15\n			\n			\n				
	S\n			\n		\n\n\n				 \n			\n			\n				Rion SUMIYOSHI\n			\n			\n				JPN\n	
			\n			\n				15\n			\n			\n				S\n			\n		\n\n\n				 \n			\n			\n				Mako 
	YAMASHITA\n			\n			\n				JPN\n			\n			\n				15\n			\n			\n				S\n			\n		\n
	\n\n				 \n			\n			\n				Yuhana YOKOI\n			\n			\n				JPN\n			\n			\n				1
	5\n			\n			\n				S\n			\n		\n\n\n				19\n			\n			\n				Alana TOKTAROVA\n		
		\n			\n				KAZ\n			\n			\n				16\n			\n			\n				 \n			\n		\n\n\n				20\n
				\n			\n				Varvara PETROVA\n			\n			\n				KGZ\n			\n			\n				17\n			\n	
			\n				 \n			\n		\n\n\n				21\n			\n			\n				Elizabete JUBKANE\n			\n			
	\n				LAT\n			\n			\n				18\n			\n			\n				 \n			\n		\n\n\n				 \n			\n	
			\n				Polina ANDREJEVA\n			\n			\n				LAT\n			\n			\n				18\n			\n			\n	
				S\n			\n		\n\n\n				 \n			\n			\n				Anete LACE\n			\n			\n				LAT\n		
		\n			\n				18\n			\n			\n				S\n			\n		\n\n\n				 \n			\n			\n				Valeri
	a PETROVA\n			\n			\n				LAT\n			\n			\n				18\n			\n			\n				S\n			\n		\n
	\n\n				 \n			\n			\n				Aleksandra SHLAHOVA\n			\n			\n				LAT\n			\n			
	\n				18\n			\n			\n				S\n			\n		\n\n\n				22\n			\n			\n				Paulina RAMA
	NAUSKAITE\n			\n			\n				LTU\n			\n			\n				19\n			\n			\n				 \n			\n		\
	n\n\n				 \n			\n			\n				Greta MORKYTE\n			\n			\n				LTU\n			\n			\n			
		19\n			\n			\n				S\n			\n		\n\n\n				23\n			\n			\n				Florencia CALDERO
	N\n			\n			\n				MEX\n			\n			\n				20\n			\n			\n				 \n			\n		\n\n\n			
		24\n			\n			\n				Anna IVANCENCO\n			\n			\n				MDA\n			\n			\n				21\n		
		\n			\n				 \n			\n		\n\n\n				25\n			\n			\n				Lucyna OKHREM\n			\n			
	\n				POL\n			\n			\n				22\n			\n			\n				 \n			\n		\n\n\n				 \n			\n	
			\n				Paulina HRYNIEWICZ\n			\n			\n				POL\n			\n			\n				22\n			\n			\
	n				S\n			\n		\n\n\n				 \n			\n			\n				Aleksandra RUDOLF\n			\n			\n		
			POL\n			\n			\n				22\n			\n			\n				S\n			\n		\n\n\n				 \n			\n			\n	
				Oliwia RZEPIEL\n			\n			\n				POL\n			\n			\n				22\n			\n			\n				S\n	
			\n		\n\n\n				 \n			\n			\n				Celina SUDNIK\n			\n			\n				POL\n			\n	
			\n				22\n			\n			\n				S\n			\n		\n\n\n				26\n			\n			\n				Ye Lim KIM
	\n			\n			\n				KOR\n			\n			\n				23\n			\n			\n				 \n			\n		\n\n\n				
	27\n			\n			\n				Ji hun TO\n			\n			\n				KOR\n			\n			\n				23\n			\n			
	\n				 \n			\n		\n\n\n				 \n			\n			\n				Yunkyung KAM\n			\n			\n				K
	OR\n			\n			\n				23\n			\n			\n				S\n			\n		\n\n\n				 \n			\n			\n				
	Eunsoo LIM\n			\n			\n				KOR\n			\n			\n				23\n			\n			\n				S\n			\n		\
	n\n\n				28\n			\n			\n				Stanislava KONSTANTINOVA\n			\n			\n				RUS\n		
		\n			\n				24\n			\n			\n				 \n			\n		\n\n\n				29\n			\n			\n				Alexa
	ndra TRUSOVA\n			\n			\n				RUS\n			\n			\n				24\n			\n			\n				 \n			\n
			\n\n\n				 \n			\n			\n				Alisa FEDICHKINA\n			\n			\n				RUS\n			\n		
		\n				24\n			\n			\n				S\n			\n		\n\n\n				 \n			\n			\n				Anastasiia 
	GULIAKOVA\n			\n			\n				RUS\n			\n			\n				24\n			\n			\n				S\n			\n		\n
	\n\n				 \n			\n			\n				Elizaveta NUGUMANOVA\n			\n			\n				RUS\n			\n		
		\n				24\n			\n			\n				S\n			\n		\n\n\n				 \n			\n			\n				Daria PANEN
	KOVA\n			\n			\n				RUS\n			\n			\n				24\n			\n			\n				S\n			\n		\n\n\n	
				 \n			\n			\n				Sofia SAMODUROVA\n			\n			\n				RUS\n			\n			\n				24
	\n			\n			\n				S\n			\n		\n\n\n				 \n			\n			\n				Anastasia TARAKANOVA
	\n			\n			\n				RUS\n			\n			\n				24\n			\n			\n				S\n			\n		\n\n\n				
	 \n			\n			\n				Anna TARUSINA\n			\n			\n				RUS\n			\n			\n				24\n			\
	n			\n				S\n			\n		\n\n\n				 \n			\n			\n				Viktoria VASILIEVA\n			\n	
			\n				RUS\n			\n			\n				24\n			\n			\n				S\n			\n		\n\n\n				30\n			\n
				\n				Selma IHR\n			\n			\n				SWE\n			\n			\n				25\n			\n			\n				 \
	n			\n		\n\n\n				 \n			\n			\n				Cassandra JOHANSSON\n			\n			\n				SWE
	\n			\n			\n				25\n			\n			\n				S\n			\n		\n\n\n				 \n			\n			\n				Em
	ma KIVIOJA\n			\n			\n				SWE\n			\n			\n				25\n			\n			\n				S\n			\n		\
	n\n\n				 \n			\n			\n				Jelizaveta KOPACA\n			\n			\n				SWE\n			\n			\
	n				25\n			\n			\n				S\n			\n		\n\n\n				 \n			\n			\n				Lisa LAGER\n	
			\n			\n				SWE\n			\n			\n				25\n			\n			\n				S\n			\n		\n\n\n				 \n
				\n			\n				Anita ÖSTLUND\n			\n			\n				SWE\n			\n			\n				25\n			\n		
		\n				S\n			\n		\n\n\n				 \n			\n			\n				Smilla SZALKAI\n			\n			\n			
		SWE\n			\n			\n				25\n			\n			\n				S\n			\n		\n\n\n				31\n			\n			\n		
			Ekin SAYGI\n			\n			\n				TUR\n			\n			\n				26\n			\n			\n				 \n			\n
			\n\n\n				 \n			\n			\n				Ilayda BAYAR\n			\n			\n				TUR\n			\n			\n	
				26\n			\n			\n				S\n			\n		\n\n\n				32\n			\n			\n				Sofiia NESTEROV
	A\n			\n			\n				UKR\n			\n			\n				27\n			\n			\n				 \n			\n		\n\n\n			
		 \n			\n			\n				Anastasiia ARKHIPOVA\n			\n			\n				UKR\n			\n			\n				
	27\n			\n			\n				S\n			\n		\n\n\n				 \n			\n			\n				Anastasia GOZHVA\n
				\n			\n				UKR\n			\n			\n				27\n			\n			\n				S\n			\n		\n\n\n				33\
	n			\n			\n				Tessa HONG\n			\n			\n				USA\n			\n			\n				28\n			\n			\n
					 \n			\n		\n\n\n				 \n			\n			\n				Starr ANDREWS\n			\n			\n				US
	A\n			\n			\n				28\n			\n			\n				S\n			\n		\n\n\n				 \n			\n			\n				T
	ing CUI\n			\n			\n				USA\n			\n			\n				28\n			\n			\n				S\n			\n		\n\n
	\n				 \n			\n			\n				Hanna HARRELL\n			\n			\n				USA\n			\n			\n				28
	\n			\n			\n				S\n			\n		\n\n\n				 \n			\n			\n				Angelina HUANG\n			\
	n			\n				USA\n			\n			\n				28\n			\n			\n				S\n			\n		\n\n\n				 \n			
	\n			\n				Ashley KIM\n			\n			\n				USA\n			\n			\n				28\n			\n			\n				
	S\n			\n		\n\n\n				 \n			\n			\n				Vivian LE\n			\n			\n				USA\n			\n	
			\n				28\n			\n			\n				S\n			\n		\n\n\n				 \n			\n			\n				Ashley LIN
	\n			\n			\n				USA\n			\n			\n				28\n			\n			\n				S\n			\n		\n\n\n				
	 \n			\n			\n				Emmy MA\n			\n			\n				USA\n			\n			\n				28\n			\n			\n
					S\n			\n		\n\n\n				 \n			\n			\n				Akari NAKAHARA\n			\n			\n				US
	A\n			\n			\n				28\n			\n			\n				S\n			\n		\n\n\n				 \n			\n			\n				K
	aitlyn NGUYEN\n			\n			\n				USA\n			\n			\n				28\n			\n			\n				S\n			\n
			\n\n\n				 \n			\n			\n				Nina OUELLETTE\n			\n			\n				USA\n			\n			\
	n				28\n			\n			\n				S\n			\n		\n\n\n				 \n			\n			\n				Paige RYDBERG
	\n			\n			\n				USA\n			\n			\n				28\n			\n			\n				S\n			\n		\n\n\n				
	 \n			\n			\n				Jenna SHI\n			\n			\n				USA\n			\n			\n				28\n			\n			
	\n				S\n			\n		\n\n\n				 \n			\n			\n				Audrey SHIN\n			\n			\n				USA
	\n			\n			\n				28\n			\n			\n				S\n			\n		\n\n\n				 \n			\n			\n				Me
	gan WESSENBERG\n			\n			\n				USA\n			\n			\n				28\n			\n			\n				S\n			\
	n		\n\n\n				34\n			\n			\n				Alyona MEZENTSEVA\n			\n			\n				UZB\n			\n
				\n				29\n			\n			\n				 \n			\n		\n\n\n				 \n			\n			\n				Niginabo
	nu JAMOLIDDINOVA\n			\n			\n				UZB\n			\n			\n				29\n			\n			\n				S\n		
		\n		\n\n\n				 \n			\n			\n				Ekaterina TERTICHNAYA\n			\n			\n				UZB\
	n			\n			\n				29\n			\n			\n				S\n			\n		\n\n\n				 \n			\n			\n				Sho
	khsanam TOKHIROVA\n			\n			\n				UZB\n			\n			\n				29\n			\n			\n				S\n	
			\n		\n\n
DTSTART:20170922T060000Z
DTEND:20170922T090000Z
END:VEVENT
END:VCALENDAR
