BEGIN:VCALENDAR
VERSION:2.0
PRODID:-//InvisionCommunity Events 4.7.23//EN
METHOD:PUBLISH
CALSCALE:GREGORIAN
REFRESH-INTERVAL:PT15M
X-PUBLISHED-TTL:PT15M
X-WR-CALNAME:Junior Grand Prix 
NAME:Junior Grand Prix 
BEGIN:VTIMEZONE
TZID:Europe/London
TZURL:http://tzurl.org/zoneinfo/Europe/London
X-LIC-LOCATION:Europe/London
BEGIN:DAYLIGHT
TZOFFSETFROM:+0000
TZOFFSETTO:+0100
TZNAME:BST
DTSTART:20170326T020000Z
RRULE:FREQ=YEARLY;BYMONTH=3;BYDAY=-1SU
END:DAYLIGHT
BEGIN:STANDARD
TZOFFSETFROM:+0100
TZOFFSETTO:+0000
TZNAME:GMT
DTSTART:20171029T020000Z
RRULE:FREQ=YEARLY;BYMONTH=10;BYDAY=-1SU
END:STANDARD
END:VTIMEZONE
BEGIN:VEVENT
SUMMARY:Ladies FS - JGP Riga Cup 2017
DTSTAMP:20170829T231758Z
SEQUENCE:0
UID:141-6-2d4faa662f2f2e4c4c1a0854de40d023@planethanyu.com
ORGANIZER;CN="Hydroblade":forum@planethanyu.com
DESCRIPTION:\n\n	\n\n\n	ISU JGP Riga Cup 2017\nJunior Ladies Free Skatin
	g\n\n\n\n	\n\n\n					No.\n				\n				\n					Name\n				\n				\n					Nation\n
					\n				\n					 \n				\n				\n					 \n				\n			\n\n\n					1\n				\n			
		\n					Katie PASFIELD\n				\n				\n					AUS\n				\n				\n					1\n				\n		
			\n					 \n				\n			\n\n\n					 \n				\n				\n					Serena XU\n				\n			
		\n					AUS\n				\n				\n					1\n				\n				\n					S\n				\n			\n\n\n					2
	\n				\n				\n					Kim CHEREMSKY\n				\n				\n					AZE\n				\n				\n					2
	\n				\n				\n					 \n				\n			\n\n\n					 \n				\n				\n					Morgan FLO
	OD\n				\n				\n					AZE\n				\n				\n					2\n				\n				\n					S\n				\n		
		\n\n\n					3\n				\n				\n					Lizaveta MALINOUSKAYA\n				\n				\n					BL
	R\n				\n				\n					3\n				\n				\n					 \n				\n			\n\n\n					 \n				\n
					\n					Aliaksandra CHEPELEVA\n				\n				\n					BLR\n				\n				\n					3
	\n				\n				\n					S\n				\n			\n\n\n					 \n				\n				\n					Lizaveta KH
	LYPAUKA\n				\n				\n					BLR\n				\n				\n					3\n				\n				\n					S\n			
		\n			\n\n\n					 \n				\n				\n					Hanna PAROSHYNA\n				\n				\n					BL
	R\n				\n				\n					3\n				\n				\n					S\n				\n			\n\n\n					 \n				\n	
				\n					Maryia SALDAKAYEVA\n				\n				\n					BLR\n				\n				\n					3\n		
			\n				\n					S\n				\n			\n\n\n					4\n				\n				\n					Presiyana DIMITR
	OVA\n				\n				\n					BUL\n				\n				\n					4\n				\n				\n					 \n				\n
				\n\n\n					 \n				\n				\n					Alexandra FEIGIN\n				\n				\n					BUL\
	n				\n				\n					4\n				\n				\n					S\n				\n			\n\n\n					 \n				\n			
		\n					Simona GOSPODINOVA\n				\n				\n					BUL\n				\n				\n					4\n				
	\n				\n					S\n				\n			\n\n\n					 \n				\n				\n					Kristina GRIGOROV
	A\n				\n				\n					BUL\n				\n				\n					4\n				\n				\n					S\n				\n			
	\n\n\n					 \n				\n				\n					Eliza PANCHEVA\n				\n				\n					BUL\n				
	\n				\n					4\n				\n				\n					S\n				\n			\n\n\n					5\n				\n				\n			
			Alison SCHUMACHER\n				\n				\n					CAN\n				\n				\n					5\n				\n				\
	n					 \n				\n			\n\n\n					 \n				\n				\n					Emily BAUSBACK\n				\n	
				\n					CAN\n				\n				\n					5\n				\n				\n					S\n				\n			\n\n\n				
		 \n				\n				\n					Aurora COTOP\n				\n				\n					CAN\n				\n				\n				
		5\n				\n				\n					S\n				\n			\n\n\n					6\n				\n				\n					Haley YAO\
	n				\n				\n					TPE\n				\n				\n					6\n				\n				\n					 \n				\n			\
	n\n\n					7\n				\n				\n					Klara STEPANOVA\n				\n				\n					CZE\n				\
	n				\n					7\n				\n				\n					 \n				\n			\n\n\n					 \n				\n				\n		
				Michaela-Lucie HANZLIKOVA\n				\n				\n					CZE\n				\n				\n					7\n		
			\n				\n					S\n				\n			\n\n\n					 \n				\n				\n					Elisabeth HARSH
	\n				\n				\n					CZE\n				\n				\n					7\n				\n				\n					S\n				\n			\
	n\n\n					 \n				\n				\n					Aneta JANICZKOVA\n				\n				\n					CZE\n			
		\n				\n					7\n				\n				\n					S\n				\n			\n\n\n					 \n				\n				\n	
					Dahyun KO\n				\n				\n					CZE\n				\n				\n					7\n				\n				\n					
	S\n				\n			\n\n\n					 \n				\n				\n					Natalie KRATENOVA\n				\n				\
	n					CZE\n				\n				\n					7\n				\n				\n					S\n				\n			\n\n\n					 \
	n				\n				\n					Nikola RYCHTARIKOVA\n				\n				\n					CZE\n				\n				\n	
					7\n				\n				\n					S\n				\n			\n\n\n					8\n				\n				\n					Nastasy
	a EREMINA\n				\n				\n					EST\n				\n				\n					8\n				\n				\n					 \n
					\n			\n\n\n					 \n				\n				\n					Eva Lotta KIIBUS\n				\n				\n			
			EST\n				\n				\n					8\n				\n				\n					S\n				\n			\n\n\n					 \n			
		\n				\n					Calista KRASS\n				\n				\n					EST\n				\n				\n					8\n			
		\n				\n					S\n				\n			\n\n\n					 \n				\n				\n					Kristina SHKULET
	A-GROMOVA\n				\n				\n					EST\n				\n				\n					8\n				\n				\n					S\n	
				\n			\n\n\n					 \n				\n				\n					Annely VAHI\n				\n				\n					EST\
	n				\n				\n					8\n				\n				\n					S\n				\n			\n\n\n					9\n				\n				
	\n					Viveca LINDFORS\n				\n				\n					FIN\n				\n				\n					9\n				\n		
			\n					 \n				\n			\n\n\n					 \n				\n				\n					Linnea CEDER\n				\n
					\n					FIN\n				\n				\n					9\n				\n				\n					S\n				\n			\n\n\n			
			 \n				\n				\n					Emmi PELTONEN\n				\n				\n					FIN\n				\n				\n		
				9\n				\n				\n					S\n				\n			\n\n\n					 \n				\n				\n					Vera ST
	OLT\n				\n				\n					FIN\n				\n				\n					9\n				\n				\n					S\n				\n	
			\n\n\n					 \n				\n				\n					Sofia SULA\n				\n				\n					FIN\n				\n
					\n					9\n				\n				\n					S\n				\n			\n\n\n					10\n				\n				\n				
		Kristina ISAEV\n				\n				\n					GER\n				\n				\n					10\n				\n				\n		
				 \n				\n			\n\n\n					 \n				\n				\n					Lutricia BOCK\n				\n				\
	n					GER\n				\n				\n					10\n				\n				\n					S\n				\n			\n\n\n					 
	\n				\n				\n					Lea Johanna DASTICH\n				\n				\n					GER\n				\n				\n
						10\n				\n				\n					S\n				\n			\n\n\n					 \n				\n				\n					Tina
	 HELLEKEN\n				\n				\n					GER\n				\n				\n					10\n				\n				\n					S\n
					\n			\n\n\n					 \n				\n				\n					Dora HUS\n				\n				\n					GER\n	
				\n				\n					10\n				\n				\n					S\n				\n			\n\n\n					 \n				\n				
	\n					Franziska KETTL\n				\n				\n					GER\n				\n				\n					10\n				\n	
				\n					S\n				\n			\n\n\n					 \n				\n				\n					Ann-Christin MAROLD\
	n				\n				\n					GER\n				\n				\n					10\n				\n				\n					S\n				\n			\
	n\n\n					 \n				\n				\n					Alissa SCHEIDT\n				\n				\n					GER\n				\
	n				\n					10\n				\n				\n					S\n				\n			\n\n\n					11\n				\n				\n		
				Anna LITVINENKO\n				\n				\n					GBR\n				\n				\n					11\n				\n				\
	n					 \n				\n			\n\n\n					 \n				\n				\n					Danielle HARRISON\n				
	\n				\n					GBR\n				\n				\n					11\n				\n				\n					S\n				\n			\n\n\n
						 \n				\n				\n					Victoria MCMAHON\n				\n				\n					GBR\n				\n		
			\n					11\n				\n				\n					S\n				\n			\n\n\n					 \n				\n				\n					
	Genevieve SOMERVILLE\n				\n				\n					GBR\n				\n				\n					11\n				\n			
		\n					S\n				\n			\n\n\n					 \n				\n				\n					Kristen SPOURS\n				\n
					\n					GBR\n				\n				\n					11\n				\n				\n					S\n				\n			\n\n\n		
				 \n				\n				\n					Anastasia VAIPAN-LAW\n				\n				\n					GBR\n				\n
					\n					11\n				\n				\n					S\n				\n			\n\n\n					12\n				\n				\n			
			Hiu Yau CHOW\n				\n				\n					HKG\n				\n				\n					12\n				\n				\n			
			 \n				\n			\n\n\n					13\n				\n				\n					Dora NAGY\n				\n				\n				
		HUN\n				\n				\n					13\n				\n				\n					 \n				\n			\n\n\n					 \n		
			\n				\n					Mira BARATH\n				\n				\n					HUN\n				\n				\n					13\n			
		\n				\n					S\n				\n			\n\n\n					 \n				\n				\n					Julia BATORI\n		
			\n				\n					HUN\n				\n				\n					13\n				\n				\n					S\n				\n			\n\n
	\n					 \n				\n				\n					Daria JAKAB\n				\n				\n					HUN\n				\n				\
	n					13\n				\n				\n					S\n				\n			\n\n\n					 \n				\n				\n					Jul
	ia LANG\n				\n				\n					HUN\n				\n				\n					13\n				\n				\n					S\n		
			\n			\n\n\n					14\n				\n				\n					Kristin Valdis ORNOLFSDOTTIR\n				\
	n				\n					ISL\n				\n				\n					14\n				\n				\n					 \n				\n			\n\n\n
						 \n				\n				\n					Emilia Ros OMARSDOTTIR\n				\n				\n					ISL\n		
			\n				\n					14\n				\n				\n					S\n				\n			\n\n\n					 \n				\n				\
	n					Margret Sol TORFADOTTIR\n				\n				\n					ISL\n				\n				\n					14\n
					\n				\n					S\n				\n			\n\n\n					15\n				\n				\n					Sophie ABRAMS
	\n				\n				\n					ISR\n				\n				\n					15\n				\n				\n					 \n				\n		
		\n\n\n					16\n				\n				\n					Rika KIHIRA\n				\n				\n					JPN\n				\n
					\n					16\n				\n				\n					 \n				\n			\n\n\n					17\n				\n				\n		
				Yuhana YOKOI\n				\n				\n					JPN\n				\n				\n					16\n				\n				\n		
				 \n				\n			\n\n\n					 \n				\n				\n					Nana ARAKI\n				\n				\n		
				JPN\n				\n				\n					16\n				\n				\n					S\n				\n			\n\n\n					 \n	
				\n				\n					Moa IWANO\n				\n				\n					JPN\n				\n				\n					16\n				
	\n				\n					S\n				\n			\n\n\n					 \n				\n				\n					Rino KASAKAKE\n		
			\n				\n					JPN\n				\n				\n					16\n				\n				\n					S\n				\n			\n\n
	\n					 \n				\n				\n					Akari MATSUBARA\n				\n				\n					JPN\n				\n	
				\n					16\n				\n				\n					S\n				\n			\n\n\n					 \n				\n				\n				
		Akari MATSUOKA\n				\n				\n					JPN\n				\n				\n					16\n				\n				\n		
				S\n				\n			\n\n\n					 \n				\n				\n					Rion SUMIYOSHI\n				\n				\
	n					JPN\n				\n				\n					16\n				\n				\n					S\n				\n			\n\n\n					 
	\n				\n				\n					Riko TAKINO\n				\n				\n					JPN\n				\n				\n					16\
	n				\n				\n					S\n				\n			\n\n\n					 \n				\n				\n					Mako YAMASHI
	TA\n				\n				\n					JPN\n				\n				\n					16\n				\n				\n					S\n				\n	
			\n\n\n					18\n				\n				\n					Zhansaya ADYKHANOVA\n				\n				\n					KA
	Z\n				\n				\n					17\n				\n				\n					 \n				\n			\n\n\n					19\n				\
	n				\n					Polina ANDREJEVA\n				\n				\n					LAT\n				\n				\n					18\n	
				\n				\n					 \n				\n			\n\n\n					20\n				\n				\n					Anete LACE\n	
				\n				\n					LAT\n				\n				\n					18\n				\n				\n					 \n				\n			\n
	\n\n					21\n				\n				\n					Arina SOMOVA\n				\n				\n					LAT\n				\n		
			\n					18\n				\n				\n					 \n				\n			\n\n\n					 \n				\n				\n				
		Elizabete JUBKANE\n				\n				\n					LAT\n				\n				\n					18\n				\n				\
	n					S\n				\n			\n\n\n					 \n				\n				\n					Jelizaveta MINCENKO\n			
		\n				\n					LAT\n				\n				\n					18\n				\n				\n					S\n				\n			\n\n\
	n					 \n				\n				\n					Valeria PETROVA\n				\n				\n					LAT\n				\n		
			\n					18\n				\n				\n					S\n				\n			\n\n\n					22\n				\n				\n					
	Greta MORKYTE\n				\n				\n					LTU\n				\n				\n					19\n				\n				\n				
		 \n				\n			\n\n\n					 \n				\n				\n					Paulina RAMANAUSKAITE\n				\
	n				\n					LTU\n				\n				\n					19\n				\n				\n					S\n				\n			\n\n\n	
					23\n				\n				\n					Aneeta LINGAM\n				\n				\n					MAS\n				\n				\n
						20\n				\n				\n					 \n				\n			\n\n\n					 \n				\n				\n					Ami
	rah Azfariena AZHARI\n				\n				\n					MAS\n				\n				\n					20\n				\n			
		\n					S\n				\n			\n\n\n					 \n				\n				\n					Sze Chyi CHEW\n				\n	
				\n					MAS\n				\n				\n					20\n				\n				\n					S\n				\n			\n\n\n			
			 \n				\n				\n					Aina Sorfina MOHD AMINUDIN\n				\n				\n					MAS\n	
				\n				\n					20\n				\n				\n					S\n				\n			\n\n\n					24\n				\n				
	\n					Natalia PAULIN\n				\n				\n					MEX\n				\n				\n					21\n				\n		
			\n					 \n				\n			\n\n\n					25\n				\n				\n					Ellen YU\n				\n				
	\n					NOR\n				\n				\n					22\n				\n				\n					 \n				\n			\n\n\n				
		 \n				\n				\n					Frida Turiddotter BERGE\n				\n				\n					NOR\n				\
	n				\n					22\n				\n				\n					S\n				\n			\n\n\n					 \n				\n				\n		
				Andrea LAE\n				\n				\n					NOR\n				\n				\n					22\n				\n				\n				
		S\n				\n			\n\n\n					 \n				\n				\n					Kari Sofie TELLEFSEN\n				\n	
				\n					NOR\n				\n				\n					22\n				\n				\n					S\n				\n			\n\n\n			
			 \n				\n				\n					Cindy Yu XIA\n				\n				\n					NOR\n				\n				\n			
			22\n				\n				\n					S\n				\n			\n\n\n					26\n				\n				\n					Diane G
	abrielle PANLILIO\n				\n				\n					PHI\n				\n				\n					23\n				\n				\n
						 \n				\n			\n\n\n					27\n				\n				\n					Yunkyung KAM\n				\n				
	\n					KOR\n				\n				\n					24\n				\n				\n					 \n				\n			\n\n\n					
	28\n				\n				\n					Hyun Soo LEE\n				\n				\n					KOR\n				\n				\n					
	24\n				\n				\n					 \n				\n			\n\n\n					 \n				\n				\n					Eunsoo L
	IM\n				\n				\n					KOR\n				\n				\n					24\n				\n				\n					S\n				\n	
			\n\n\n					 \n				\n				\n					Ji hun TO\n				\n				\n					KOR\n				\n	
				\n					24\n				\n				\n					S\n				\n			\n\n\n					29\n				\n				\n				
		Alisa FEDICHKINA\n				\n				\n					RUS\n				\n				\n					25\n				\n				\n
						 \n				\n			\n\n\n					30\n				\n				\n					Daria PANENKOVA\n				\n	
				\n					RUS\n				\n				\n					25\n				\n				\n					 \n				\n			\n\n\n		
				 \n				\n				\n					Anastasiia GULIAKOVA\n				\n				\n					RUS\n				\n
					\n					25\n				\n				\n					S\n				\n			\n\n\n					 \n				\n				\n			
			Elizaveta NUGUMANOVA\n				\n				\n					RUS\n				\n				\n					25\n				\n	
				\n					S\n				\n			\n\n\n					 \n				\n				\n					Sofia SAMODUROVA\n		
			\n				\n					RUS\n				\n				\n					25\n				\n				\n					S\n				\n			\n\n
	\n					 \n				\n				\n					Anastasia TARAKANOVA\n				\n				\n					RUS\n		
			\n				\n					25\n				\n				\n					S\n				\n			\n\n\n					 \n				\n				\
	n					Anna TARUSINA\n				\n				\n					RUS\n				\n				\n					25\n				\n				
	\n					S\n				\n			\n\n\n					 \n				\n				\n					Alexandra TRUSOVA\n				
	\n				\n					RUS\n				\n				\n					25\n				\n				\n					S\n				\n			\n\n\n
						31\n				\n				\n					Cassandra JOHANSSON\n				\n				\n					SWE\n				\
	n				\n					26\n				\n				\n					 \n				\n			\n\n\n					 \n				\n				\n	
					Selma IHR\n				\n				\n					SWE\n				\n				\n					26\n				\n				\n				
		S\n				\n			\n\n\n					 \n				\n				\n					Emma KIVIOJA\n				\n				\n			
			SWE\n				\n				\n					26\n				\n				\n					S\n				\n			\n\n\n					 \n		
			\n				\n					Jelizaveta KOPACA\n				\n				\n					SWE\n				\n				\n					2
	6\n				\n				\n					S\n				\n			\n\n\n					 \n				\n				\n					Lisa LAGER
	\n				\n				\n					SWE\n				\n				\n					26\n				\n				\n					S\n				\n			
	\n\n\n					 \n				\n				\n					Anita ÖSTLUND\n				\n				\n					SWE\n				
	\n				\n					26\n				\n				\n					S\n				\n			\n\n\n					 \n				\n				\n	
					Smilla SZALKAI\n				\n				\n					SWE\n				\n				\n					26\n				\n				\
	n					S\n				\n			\n\n\n					32\n				\n				\n					Thita LAMSAM\n				\n				
	\n					THA\n				\n				\n					27\n				\n				\n					 \n				\n			\n\n\n					
	33\n				\n				\n					Ilayda BAYAR\n				\n				\n					TUR\n				\n				\n					
	28\n				\n				\n					 \n				\n			\n\n\n					 \n				\n				\n					Ekin SAY
	GI\n				\n				\n					TUR\n				\n				\n					28\n				\n				\n					S\n				\n	
			\n\n\n					34\n				\n				\n					Anastasiia ARKHIPOVA\n				\n				\n					U
	KR\n				\n				\n					29\n				\n				\n					 \n				\n			\n\n\n					 \n				
	\n				\n					Anastasia GOZHVA\n				\n				\n					UKR\n				\n				\n					29\n
					\n				\n					S\n				\n			\n\n\n					 \n				\n				\n					Sofiia NESTER
	OVA\n				\n				\n					UKR\n				\n				\n					29\n				\n				\n					S\n				\n
				\n\n\n					35\n				\n				\n					Ashley LIN\n				\n				\n					USA\n				\
	n				\n					30\n				\n				\n					 \n				\n			\n\n\n					36\n				\n				\n	
					Emmy MA\n				\n				\n					USA\n				\n				\n					30\n				\n				\n					
	 \n				\n			\n\n\n					 \n				\n				\n					Starr ANDREWS\n				\n				\n		
				USA\n				\n				\n					30\n				\n				\n					S\n				\n			\n\n\n					 \n	
				\n				\n					Ting CUI\n				\n				\n					USA\n				\n				\n					30\n				\
	n				\n					S\n				\n			\n\n\n					 \n				\n				\n					Hanna HARRELL\n			
		\n				\n					USA\n				\n				\n					30\n				\n				\n					S\n				\n			\n\n\
	n					 \n				\n				\n					Tessa HONG\n				\n				\n					USA\n				\n				\n	
					30\n				\n				\n					S\n				\n			\n\n\n					 \n				\n				\n					Angel
	ina HUANG\n				\n				\n					USA\n				\n				\n					30\n				\n				\n					S\n
					\n			\n\n\n					 \n				\n				\n					Ashley KIM\n				\n				\n					USA\
	n				\n				\n					30\n				\n				\n					S\n				\n			\n\n\n					 \n				\n		
			\n					Vivian LE\n				\n				\n					USA\n				\n				\n					30\n				\n				\
	n					S\n				\n			\n\n\n					 \n				\n				\n					Akari NAKAHARA\n				\n		
			\n					USA\n				\n				\n					30\n				\n				\n					S\n				\n			\n\n\n				
		 \n				\n				\n					Kaitlyn NGUYEN\n				\n				\n					USA\n				\n				\n		
				30\n				\n				\n					S\n				\n			\n\n\n					 \n				\n				\n					Nina O
	UELLETTE\n				\n				\n					USA\n				\n				\n					30\n				\n				\n					S\n	
				\n			\n\n\n					 \n				\n				\n					Paige RYDBERG\n				\n				\n					US
	A\n				\n				\n					30\n				\n				\n					S\n				\n			\n\n\n					 \n				\n
					\n					Audrey SHIN\n				\n				\n					USA\n				\n				\n					30\n				\n	
				\n					S\n				\n			\n\n\n					 \n				\n				\n					Megan WESSENBERG\n		
			\n				\n					USA\n				\n				\n					30\n				\n				\n					S\n				\n			\n\n
	\n
DTSTART:20170908T090000Z
DTEND:20170908T120000Z
END:VEVENT
END:VCALENDAR
